BEGIN:VCALENDAR
VERSION:2.0
PRODID:-//wp-events-plugin.com//7.2.3.1//EN
TZID:Europe/Warsaw
X-WR-TIMEZONE:Europe/Warsaw
BEGIN:VEVENT
UID:35624@night4u.pl
DTSTART;TZID=Europe/Warsaw:20191110T221300
DTEND;TZID=Europe/Warsaw:20191111T050000
DTSTAMP:20191110T184205Z
URL:https://night4u.pl/wydarzenia/independence-day-larry-lane/
SUMMARY:Independence Day | Larry Lane
DESCRIPTION:Noc z 10 na 11 listopada oraz tegoroczne Święto Niepodległo
 ści świętować będziemy na swój imprezowy sposób. Pokażemy\, że mo
 żna cieszyć się tym świętem w ciekawy i pozytywny sposób! \nZaprasza
 my! Przyjdźcie i celebrujcie to święto z Nami w ROOM 13 Club!\nMuzyczne
  stery tej nocy przejmie Larry Lane! \n\nStart: 22:13\nWstęp / tickets: f
 ree\n\nPatronat medialny:\nRadio ESKA\n\nREZERWACJE / RESERVATIONS\n+48 73
 2 538 638 \ninfo@room13.pl\n______________________\n\nwww.room13.pl\nfb.co
 m/room13club\ninstagram.com/room13club
ATTACH;FMTTYPE=image/jpeg:https://night4u.pl/wp-content/uploads/2019/11/93
 947_image_74420279_2824877457535960_771378741996683264_o.jpg
CATEGORIES:mazowieckie
LOCATION:ROOM 13 Club\, ul. Mazowiecka 13\, Warsaw\, 00-052\, Poland
GEO:52.237999;21.012896
X-APPLE-STRUCTURED-LOCATION;VALUE=URI;X-ADDRESS=ul. Mazowiecka 13\, Warsaw\
 , 00-052\, Poland;X-APPLE-RADIUS=100;X-TITLE=ROOM 13 Club:geo:52.237999,21
 .012896
END:VEVENT
BEGIN:VTIMEZONE
TZID:Europe/Warsaw
X-LIC-LOCATION:Europe/Warsaw
BEGIN:STANDARD
DTSTART:20191027T020000
TZOFFSETFROM:+0200
TZOFFSETTO:+0100
TZNAME:CET
END:STANDARD
END:VTIMEZONE
END:VCALENDAR