BEGIN:VCALENDAR
VERSION:2.0
PRODID:-//wp-events-plugin.com//7.2.3.1//EN
TZID:Europe/Warsaw
X-WR-TIMEZONE:Europe/Warsaw
BEGIN:VEVENT
UID:34976@night4u.pl
DTSTART;TZID=Europe/Warsaw:20191110T210000
DTEND;TZID=Europe/Warsaw:20191111T050000
DTSTAMP:20191110T172332Z
URL:https://night4u.pl/wydarzenia/independence-day-phil-novy-lista-fb-free
 -do-2300/
SUMMARY:Independence DAY - Phil Novy - lista FB free do 23:00
DESCRIPTION:W tym tygodniu imprezowy weekend wydłużamy o jedno wydarzenie
 . W związku ze świętem 11.10 i dniem wolnym gramy dla Was także w nied
 zielę.  #NHGdynia zaprasza.\n\n\nMuzyka:\nPHIL NOVY\n\nWstęp płatny:  \
 n                        - lista fb do 23:00 wstęp wolny\n               
            (listę zamykamy o 20.45)\n                         aby znaleź
 ć się na liście musisz lubić stronę Nowy        \n                   
        Harem i wziąć udział w  wydarzeniu!!\n                        - 
 standardowy bilet wstępu:\n                         10 zł\,\n           
                (upoważnia do jednorazowego wstępu na imprezę\, \n      
                     regulamin dostępny przy wejściu\n                   
      - karty klubowe wstęp wolny\n\n\n*Wstęp "18+"\, w razie wątpliwoś
 ci selekcjoner ma prawo poprosić o dokument potwierdzający wiek.\n** Str
 ój wieczorowy\, modny\, klubowy\, niekoniecznie galowy\, zdecydowanie nie
  sportowy. Wyglądaj dobrze\, czuj się komfortowo\, spraw by inni mieli c
 o podziwiać\;)    \n\nRezerwacje: \n                     tel. +48 602-213
 -323 lub on line \n                     www.emenago.com/i/nowyharem  \n   
                   *Regulamin i zasady rezerwacji - kliknij link: \n       
               https://tinyurl.com/zasadyrezerwacji
ATTACH;FMTTYPE=image/jpeg:https://night4u.pl/wp-content/uploads/2019/11/91
 805_image_74211303_669775760180696_2601602583294377984_n.jpg
CATEGORIES:pomorskie
LOCATION:Nowy Harem Gdynia\, 3 Maja 28\, Gdynia\, 81-364\, Poland
GEO:54.519089;18.535287
X-APPLE-STRUCTURED-LOCATION;VALUE=URI;X-ADDRESS=3 Maja 28\, Gdynia\, 81-364
 \, Poland;X-APPLE-RADIUS=100;X-TITLE=Nowy Harem Gdynia:geo:54.519089,18.53
 5287
END:VEVENT
BEGIN:VTIMEZONE
TZID:Europe/Warsaw
X-LIC-LOCATION:Europe/Warsaw
BEGIN:STANDARD
DTSTART:20191027T020000
TZOFFSETFROM:+0200
TZOFFSETTO:+0100
TZNAME:CET
END:STANDARD
END:VTIMEZONE
END:VCALENDAR