BEGIN:VCALENDAR
VERSION:2.0
PRODID:-//wp-events-plugin.com//7.2.3.1//EN
TZID:Europe/Warsaw
X-WR-TIMEZONE:Europe/Warsaw
BEGIN:VEVENT
UID:34217@night4u.pl
DTSTART;TZID=Europe/Warsaw:20191110T210000
DTEND;TZID=Europe/Warsaw:20191111T050000
DTSTAMP:20191110T141416Z
URL:https://night4u.pl/wydarzenia/independence-party-10-11-pijemy-bo-mozem
 y/
SUMMARY:IndepenDence Party // 10.11 // pijemy\, bo możemy
DESCRIPTION:Impreza dla wszystkich patriotów\, którzy chcieliby wznieść
  toast za niepodległą Polskę\, bo okazja przepiękna\, a i wolne nazaju
 trz!\n\nW ten dzień poczęstujemy Was na wejściu specjalnymi shotami\, a
  do każdej rezerwacji dorzucimy metr biało-czerwonego Kamikadze!\n______
 ________________________________________________\n Rezerwacje: http://bana
 nadanceclub.pl/\n  Start: 21:00\n  Bilet: info wkrótce\n  Wstęp: +18\n  
 \n  Banana Dance Club\n  Szewska 3a\, Wrocław
ATTACH;FMTTYPE=image/jpeg:https://night4u.pl/wp-content/uploads/2019/10/87
 822_image_74666306_2708651882694737_5854987073894744064_o.jpg
CATEGORIES:dolnośląskie
LOCATION:Banana Dance Club\, Szewska 3a\, Wroclaw\, 50-053\, Poland
GEO:51.1078;17.03398
X-APPLE-STRUCTURED-LOCATION;VALUE=URI;X-ADDRESS=Szewska 3a\, Wroclaw\, 50-0
 53\, Poland;X-APPLE-RADIUS=100;X-TITLE=Banana Dance Club:geo:51.1078,17.03
 398
END:VEVENT
BEGIN:VTIMEZONE
TZID:Europe/Warsaw
X-LIC-LOCATION:Europe/Warsaw
BEGIN:STANDARD
DTSTART:20191027T020000
TZOFFSETFROM:+0200
TZOFFSETTO:+0100
TZNAME:CET
END:STANDARD
END:VTIMEZONE
END:VCALENDAR