BEGIN:VCALENDAR
VERSION:2.0
PRODID:-//wp-events-plugin.com//7.2.3.1//EN
TZID:Europe/Warsaw
X-WR-TIMEZONE:Europe/Warsaw
BEGIN:VEVENT
UID:6832@night4u.pl
DTSTART;TZID=Europe/Warsaw:20190326T200000
DTEND;TZID=Europe/Warsaw:20190326T230000
DTSTAMP:20190210T152516Z
URL:https://night4u.pl/wydarzenia/indialucia-fascynujaca-fuzja-muzyki-indy
 jskiej-i-flamenco/
SUMMARY:Indialucia - fascynująca fuzja muzyki indyjskiej i flamenco!
DESCRIPTION:INDIALUCIA - fascynująca fuzja muzyki indyjskiej i flamenco!\n
 \nEthno Jazz Festival zaprasza 26 marca do Sali Gotyckiej w Starym Klaszto
 rze na koncert niezwykłego projektu INDIALUCIA\, łączącego muzykę ind
 yjską z muzyką flamenco!\n\nINDIALUCIA - to projekt muzyczny łączący 
 dwa fascynujące style muzyczne: muzykę indyjską oraz flamenco. Projekt 
 ten powstał w roku 1999 w Indiach wśród nauczycieli i uczniów Akademii
  Muzycznej w Nagpur. Wzięło w nich udział wielu znakomitych muzyków z 
 obu kontynentów. Pomysłodawcą\, producentem oraz szefem artystycznym je
 st gitarzysta Michał Czachowski. Owocem tego muzycznego spotkania była p
 łyta wydana w 2005 roku\, która zdobyła uznanie w Polsce i na świecie.
  Album został laureatem nagród Wirtualne Gęśle oraz Folkowy Fonogram R
 oku przyznawane przez Polskie Radio za najlepszą płytę 2005 roku oraz n
 ominowany do nagrody Fryderyki 2006 w kategorii Album Roku - Folk/Etno. W 
 roku 2007 płyta doszła do drugiego miejsca najlepszych płyt World Music
  wydanych w USA. Muzyka z płyty była wykorzystana jako ścieżka dźwię
 kowa do hollywoodzkiego filmu "Święci z Bostonu II". Najnowszy album zes
 połu pt. Acatao w 2015 roku otrzymał drugą nagrodę Folkowy Fonogram Ro
 ku przyznawane przez Polskie Radio\n.\nPołączenie muzyki hiszpańskich C
 yganów i indyjskiej może się wydawać egzotyczne\, ale jeśli przypomni
 my sobie\, że ten lud przybył na Półwysep Iberyjski właśnie z Indii 
 możemy powiedzieć\, że ich projekt jest powrotem do korzeni\, który mo
 żna porównać do pierwszych rewolucyjnych spotkań muzyków Europy i Azj
 i z lat 60 - tych.\nZespół do tej pory wykonał ponad 300 koncertów na 
 5 kontynentach m. in. w Indiach\, Meksyku\, USA\, Rosji\, Singapurze\, Oma
 nie\, Kolumbii\, Hiszpanii\, Turcji\, Austrii\, Niemczech\, Anglii\, Franc
 ji\, Włoszech\, Luksemburgu\, Czechach\, Finlandii\, Węgrzech\, i Rumuni
 i. Muzycy grali w wielkich scenach koncertowych   oraz najważniejszych  
 światowych festiwalach.\n\nskład zespołu INDIALUCIA:\nMichał CZACHOWSK
 I – gitara flamenco\nGiridhar UDUPA - ghatam\, morsing\, kanjira konnako
 l\nLeo VERTUNNI – sitar\nISAAC PENA GONZALEZ – cajón\n\n\nMichał CZA
 CHOWSKI - gitarzysta flamenco\, kompozytor\, publicysta\, producent muzycz
 ny\, architekt\, od urodzenia wychowywał się w otoczeniu muzyki flamenco
 . W 1992 roku utworzył własny zespół stopniowo rozszerzając skład od
  duetu do septetu. Od 1997 roku grupa występuje pod nową nazwą "Viva Fl
 amenco!" i przez kilka następnych lat zostaje laureatem kilkunastu konkur
 sów muzycznych stając się jedną z najlepszych tego typu formacji w kra
 ju. Michał Czachowski po latach działalności scenicznej stał się wybi
 tnym wirtuozem gitary flamenco. \n\nGiridhar UDUPA - mistrz ghatamu (glini
 any instrument perkusyjny o wyglądzie dzbana). Urodził się w rodzinie o
  długich tradycjach muzycznych. Naukę gry rozpoczął w wieku czterech l
 at\, prowadzony przez ojca. Jako dwunastolatek miał już za sobą pierwsz
 e występy. Obecnie koncertuje u boku największych mistrzów. Otrzymał w
 iele prestiżowych nagród. Występuje w USA\, Hiszpanii\, Kanadzie\, Fran
 cji\, Szwajcarii\, Niemczech\, Omanie i Kuwejcie. Giridhar Udupa jest czł
 onkiem zespołu hinduskiej wokalistki Bombay Jayashri\, nominowanej do Osc
 ara za najlepszą piosenkę do filmu Życie Pi. Jest jednym z założycie
 li zespołu Layatharanga.\n\nLeo VERTUNNI - sitarzysta\, aktor\, muzyk a t
 akże kompozytor\, pochodzący z Londynu\, mimo młodego wieku ma na swoim
  koncie sporo osiągnięć. Absolwent wydziału Indologi Uniwersytetu w Bo
 lonii. Naukę gry na sitarze rozpoczął pod okiem wielkiego Avaneendry Sh
 eolikara w Nagpur\, potem naukę gry na tym instrumencie kontynuował w Lo
 ndynie w SOAS University of London pod okiem takich mistrzów jak Ustad Dh
 arambir SIngh\, Ustad Shahid Parvez oraz Ustad Irshad Khan. Jest producent
 em musycznym i nagrywał wiele albumów w tym "William Blake's Songs of In
 nocence and of Experience" (VOD 2011)\, przedstawionej przez włoski magaz
 yn muzyczny "Rockerilla" jako "arcydzieło muzycznej inwencji". Koncertowa
 ł w wielu krajach Europy oraz w USA\, Chinach\, Kolumbii oraz w Indiach. 
 W tej chwili najlepszy europejski sitarzysta. Zagrał w dwóch filmach (It
 alian Key i She the Monster).\n\n\n26.03.19 godz.20.00 Sala Gotycka w Star
 ym Klasztorze\, ul. Purkyniego 1\nEthno Jazz Festival - Muzyka Świata\nIN
 DIALUCIA\nbilety: 60 zł – I miejsca\, 50 zł – II miejsca\, 40 zł - 
 miejsca stojące\n\nBilety dostępne w sieci salonów Empik i MediaMarkt w
  całej Polsce\noraz w serwisach: www.staryklasztor.com.pl/bilety/\, www.b
 iletin.pl\, www.biletyna.pl\, www.eventim.pl\, www.ebilet.pl\, \nrezerwacj
 e: bilety@o2.pl
ATTACH;FMTTYPE=image/jpeg:https://night4u.pl/wp-content/uploads/2019/02/19
 956_image_51339501_2060338670747924_7872336743289061376_n.jpg
CATEGORIES:dolnośląskie
LOCATION:Stary Klasztor\, Purkyniego 1\, Wroclaw\, 50-155\, Poland
GEO:51.110198;17.039162
X-APPLE-STRUCTURED-LOCATION;VALUE=URI;X-ADDRESS=Purkyniego 1\, Wroclaw\, 50
 -155\, Poland;X-APPLE-RADIUS=100;X-TITLE=Stary Klasztor:geo:51.110198,17.0
 39162
END:VEVENT
BEGIN:VTIMEZONE
TZID:Europe/Warsaw
X-LIC-LOCATION:Europe/Warsaw
BEGIN:STANDARD
DTSTART:20181028T020000
TZOFFSETFROM:+0200
TZOFFSETTO:+0100
TZNAME:CET
END:STANDARD
END:VTIMEZONE
END:VCALENDAR