BEGIN:VCALENDAR
VERSION:2.0
PRODID:-//wp-events-plugin.com//7.2.3.1//EN
TZID:Europe/Warsaw
X-WR-TIMEZONE:Europe/Warsaw
BEGIN:VEVENT
UID:45686@night4u.pl
DTSTART;TZID=Europe/Warsaw:20200208T210000
DTEND;TZID=Europe/Warsaw:20200209T050000
DTSTAMP:20200208T063746Z
URL:https://night4u.pl/wydarzenia/inferno-club-on-fire-%e2%98%85-sob-8-02/
SUMMARY:Inferno // Club On Fire ★ Sob. 8.02
DESCRIPTION:Podobno zabawa z ogniem powoduje w nocy...a zresztą.... my si
 ę niczego nie boimy!🤣\n\nJuż 8 lutego na scenie Pomarańczy kolejna t
 ajemnicza\, uwodząca i bardzooooo ekscytująca impreza INFERNO - CLUB ON 
 FIRE!🔥🔥🔥\n\nWystąpi dla Was kobieta pełna pasji i odwagi. Zapew
 ni tajemniczy i żywiołowy a zarazem subtelny i wciągający -  pełen kl
 imatycznych doznań spektakl!💥🔥\n\nTakie niepowtarzalne pokazy z uż
 yciem ognia i pirotechniki scenicznej czekają na Was tylko w #NowaPomara
 ńcza!🔥🔥🔥\n\nPonadto co sobotę oddajemy do Waszej dyspozycji 3 s
 alę\, na której panuje gorący klimat muzyki latino! Cubana to jedyna ta
 ka sala na imprezowej mapie Śląska💃🕺\n--\nINFORMACJE\n📅 8.02 - 
 SOBOTA\n🕘 Start: 21:00\n🔞 Selekcja: +18\n🎫 Wstęp: \nPanie: 15zł
 \,\nPanowie: 20zł\,\nPanie do 22:00: wstęp FREE\,\n📌 Katowice\, ul. M
 ickiewicza 4\, Galeria Skarbek (Rynek)\n🅿 http://bit.ly/ParkingiPomara
 ńczaKatowice\n--\nRESTAURACJA STREET FOOD 🌮 🍔\nPrzez cały czas trw
 ania imprezy czynna jest restauracja TACO LOCO STREET FOOD!\n--\nPROMOCJE\
 n🎂 Twoje Urodziny!\n💃 Wieczór Panieński\n🕺 Wieczór Kawalerski\
 nInfo: https://klubpomarancza.pl/katowice/promocje/\n📱 536 901 907 (wt.
 -sob. 13:00-21:00)\n📧 mojaimpreza@pomaranczagroup.pl\n--\nREZERWACJA LO
 ŻY\nRezerwacje loży online: https://klubpomarancza.pl/katowice/rezerwacj
 alozy/\n--\nMUZYKA\nSALA KLUBOWA ▶ DC-LUCK\, BASE ATTACK\nSALA DANCE ▶
  PAUL SECCO\nSALA CUBANA ▶ OZZY F\n--\nINSTAGRAM\nwww.instagram.com/poma
 rancza_katowice
ATTACH;FMTTYPE=image/jpeg:https://night4u.pl/wp-content/uploads/2020/01/14
 8313_image_83422924_3008762049142796_1467379077076746240_o.jpg
CATEGORIES:śląskie
LOCATION:Klub Pomarańcza Katowice\, Mickiewicza 4\, Katowice\, 40-092\, Po
 land
GEO:50.25976;19.02082
X-APPLE-STRUCTURED-LOCATION;VALUE=URI;X-ADDRESS=Mickiewicza 4\, Katowice\, 
 40-092\, Poland;X-APPLE-RADIUS=100;X-TITLE=Klub Pomarańcza Katowice:geo:5
 0.25976,19.02082
END:VEVENT
BEGIN:VTIMEZONE
TZID:Europe/Warsaw
X-LIC-LOCATION:Europe/Warsaw
BEGIN:STANDARD
DTSTART:20191027T020000
TZOFFSETFROM:+0200
TZOFFSETTO:+0100
TZNAME:CET
END:STANDARD
END:VTIMEZONE
END:VCALENDAR