BEGIN:VCALENDAR
VERSION:2.0
PRODID:-//wp-events-plugin.com//7.2.3.1//EN
TZID:Europe/Warsaw
X-WR-TIMEZONE:Europe/Warsaw
BEGIN:VEVENT
UID:29458@night4u.pl
DTSTART;TZID=Europe/Warsaw:20191115T190000
DTEND;TZID=Europe/Warsaw:20191115T230000
DTSTAMP:20191115T221838Z
URL:https://night4u.pl/wydarzenia/inkwizycja-xxx-lat-wostok-72dr/
SUMMARY:Inkwizycja: XXX lat + Wostok\, 72DR
DESCRIPTION:Ruszamy na fshut! Sprawdzimy\, czy słońce ma wygodne posłani
 e. Czy wostok znaczy dalej to samo co kiedyś. Czy o poranku\, o wschodzie
  dalej nam w duszy gra jak XXX lat temu (co niektórym). Ale na koncert za
 praszamy wieczorem. \n\nZagrają:\n✝ Inkwizycja (Kraków) - hardcore pun
 k\nhttps://www.facebook.com/InkwizycjaZespol/\nhttps://inkwizycja.bandcamp
 .com/\nhttps://www.inkwizycja.pl\n\n✝ Wostok (Lublin) - crossover thrash
 /hardcore\nhttps://www.facebook.com/wostok.lublin/\nhttps://wostok.bandcam
 p.com/\n\n✝ 72DR (Grodzisk Mazowiecki) - hardcore punk/metal\nhttps://ww
 w.facebook.com/72DesperateRebels/\nhttps://72dr.bandcamp.com/
ATTACH;FMTTYPE=image/jpeg:https://night4u.pl/wp-content/uploads/2019/10/68
 069_image_75114876_3061410673929270_975634566117064704_o.jpg
CATEGORIES:lubelskie
LOCATION:Rider's Pub Lublin\, 3 Maja 9\, Lublin\, 20-078\, Poland
GEO:51.250675;22.558363
X-APPLE-STRUCTURED-LOCATION;VALUE=URI;X-ADDRESS=3 Maja 9\, Lublin\, 20-078\
 , Poland;X-APPLE-RADIUS=100;X-TITLE=Rider's Pub Lublin:geo:51.250675,22.55
 8363
END:VEVENT
BEGIN:VTIMEZONE
TZID:Europe/Warsaw
X-LIC-LOCATION:Europe/Warsaw
BEGIN:STANDARD
DTSTART:20191027T020000
TZOFFSETFROM:+0200
TZOFFSETTO:+0100
TZNAME:CET
END:STANDARD
END:VTIMEZONE
END:VCALENDAR