BEGIN:VCALENDAR
VERSION:2.0
PRODID:-//wp-events-plugin.com//7.2.3.1//EN
TZID:Europe/Warsaw
X-WR-TIMEZONE:Europe/Warsaw
BEGIN:VEVENT
UID:20008@night4u.pl
DTSTART;TZID=Europe/Warsaw:20191121T190000
DTEND;TZID=Europe/Warsaw:20191121T230000
DTSTAMP:20191118T155417Z
URL:https://night4u.pl/wydarzenia/insomnium-the-black-dahlia-murder-stam1n
 a-21-xi-krakow/
SUMMARY:Insomnium + The Black Dahlia Murder\, Stam1na / 21 XI / Kraków
DESCRIPTION:🚪 19:00 - Drzwi\n🤘 19:30-20:00 - Stam1na\n🤘 20:25-21:2
 5 - The Black Dahlia Murder\n🤘 21:55-... - Insomnium\n\n--\n\nKnock Out
  Productions prezentuje dwa koncerty Insomnium w Polsce!\n\nInsomnium wyst
 ąpi w naszym kraju późną jesienią 2019 roku. Finowie pracują obecnie
  nad swoim ósmym albumem studyjnym\, który ma się ukazać jesienią 201
 9 roku\, nakładem Century Media Records. W roli supportów zaprezentują 
 się zespoły The Black Dahlia Murder oraz Stam1na.\n\nTwórczość ameryk
 ańskiej formacji The Black Dahlia Murder\, wieńczy album „Nightbringer
 s”\, wydany w 2017 roku przez wytwórnię Metal Blade Records. Stam1na w
 ydała swój ósmy album – „Taival”\, z ramienia Sakara Records w pa
 ździerniku 2018 roku\, a twórczość muzyków charakteryzuje sztuka wył
 ącznie w języku fińskim.\n\nInsomnium\, The Black Dahlia Murder oraz St
 am1na\, zaprezentują się w Polsce 21 listopada\, w krakowskim klubie Kwa
 drat oraz dzień później – 22 listopada 2019\, we wrocławskiej Pralni
 .\n\nBilety dostępne już w sprzedaży na:\n🎟 https://sklep.knockoutpr
 od.net\n\n--\n\n[PL] Uwaga! ⚠ Kupując bilet od osób umieszczających o
 ferty na nieautoryzowanych stronach (Viagogo\, Ticketswap\, Allegro\, OLX 
 czy Facebook)\, ryzykujesz nabycie fałszywej wejściówki\, która uniemo
 żliwia wejście na koncert. Prosimy o kupowanie biletów wyłącznie w au
 toryzowanych punktach sprzedaży\, tj. sklep.knockoutprod.net oraz eventim
 .pl! \n\n[ENG] Attention! ⚠ Buying tickets through unauthroized platform
 s (Viagogo\, Ticketswap\, etc.) is a risk of buying false tickets which wi
 ll not let You participate in our shows. The only authorised ticket stores
  are sklep.knockoutprod.net and eventim.pl.\n\n--\n\n🎵 INSOMNIUM (Finla
 ndia) melodyjny death metal:\n\nCzołowy reprezentant fińskiego melodyjne
 go death metalu\, grupa Insomnium\, to realizacja artystycznej wizji\, kt
 óra mniej więcej w połowie lat 90. zrodziła się w głowie gitarzysty 
 i wokalisty Ville Frimana. Podzielali ją Markus Hirvonen (perkusja) i Nii
 lo Sevänen (wokal\, gitara basowa)\, którzy w 1997 roku stworzyli trzon 
 zespołu i stanowią go do dziś. \n\nMelodyjny death metal to oczywiście
  tylko jeden ze składników muzyki Finów. Insomnium nie stroni także od
  klimatów ilustracyjnych\, elementów rocka progresywnego\, a także cię
 żarowych wstawek rodem prosto z doom metalu. Styl przez ponad 20 lat istn
 ienia był przez muzyków dopieszczany\, podobnie brzmienie. Klimatycznie 
 czasami jest w Insomnium baśniowo i pięknie\, ale bywa też bezlitośnie
  i brutalnie. \n\nNa pewno formuła ta sprawdza się znakomicie i doczeka
 ła się docenienia. W Finlandii albumy kapeli od 2009 roku lądują w pie
 rwszej dziesiątce zestawienia płyt\, a pochodzący z 2016 roku "Winter's
  Gate"\, dotarł do szczytu listy. Świetnie Insomnium wypada na koncertac
 h\, o czym niejednokrotnie mogli się przekonać polscy fani. \n\nSprawdź
 \, jeśli lubisz: Omnium Gatherum\, Amorphis\, Swallow The Sun…\n\n▶ h
 ttp://www.insomnium.net/\n▶ https://www.facebook.com/insomniumofficial/\
 n▶ https://youtu.be/vBZ5SLJmfdw \n\n🎵 THE BLACK DAHLIA MURDER (USA) m
 elodyjny death metal:\n\nStan Michigan był lub jest domem wielu legendarn
 ych wykonawców. Tam zaczynali MC5\, The Stooges\, Eminem\, Ted Nugent\, b
 y wymienić tylko kilku twórców. W znajdującym się w tym stanie Detroi
 t\, kultowy reżyser Jim Jarmusch osadził akcję swego niesamowitego film
 u "Tylko kochankowie przetrwają". Tam też w 2001 roku narodziła się fo
 rmacja The Black Dahlia Murder\, dziś będąca czołową siłą amerykań
 skiego melodyjnego death metalu.\n \nMotorem napędowym zespołu są dwaj 
 jego założyciele\, Trevor Strnad (wokal) i Brian Eschbach (gitara). Od 2
 012 roku wspierają ich basista Max Lavelle oraz bębniarz Alan Cassidy. N
 ajmłodszym nabytkiem jest gitarzysta Brandon Ellis\, który dołączył d
 o TBDM w 2016 roku. O popularności zespołu w USA niech świadczy fakt\, 
 że od 2009 roku każda jego płyta znajdowała się w Top 50 prestiżoweg
 o notowania albumów Billboard Top 200. Najlepiej poradziła sobie "Ritual
 " z 2011 roku\, która doszła do pozycji 31. \n\nMuzyka The Black Dahlia 
 Murder to świetna mikstura klimatów At The Gates\, Carcass\, Morbid Ange
 l\, a także wpływów Pantery oraz takich klasyków metalu\, jak Iron Mai
 den\, czy Judas Priest. O popularności kapeli z Michigan świadczy równi
 eż to\, że jej stronę na Facebooku śledzi ponad 1 mln fanów!\n\nSpraw
 dź\, jeśli lubisz: At The Gates\, Dissection\, Carcass…\n\n▶ http://
 www.tbdmofficial.com/\n▶ https://www.facebook.com/theblackdahliamurderof
 ficial/\n▶ https://youtu.be/voxtdphvP5k \n\n🎵 STAM1NA (Finlandia) thr
 ash metal:\n\nStam1na to śpiewająca w ojczystym języku formacja powsta
 ła w 1996 roku w niewielkim miasteczku na południu Finlandii. Wybranie f
 ińskiego za język utworów\, nie przeszkodziło kapeli w odniesieniu suk
 cesu również poza granicami ojczyzny. \n\nGłówną siłę napędową od
  początku stanowią gitarzysta i wokalista Antti Hyyrynen\, gitarzysta Pe
 kka Olkkonen oraz grający na perkusji Teppo Velin. Skład uzupełniają b
 asista Kai-Pekka Kangasmäki oraz keyboardzista Emil Lähteenmäki.\n\nPan
 owie zakochani są przede wszystkim w melodyjnym thrash metalu i to słych
 ać na płytach\, ale nie stronią też od czerpania z dorobku wykonawców
  progmetalowych oraz klasycznego heavy. Na żadnej z ich płyt nie brakuje
  pięknych melodii. A warto podkreślić\, że aż sześć płyt Stam1na z
 dobyło szczyt notowania albumów w Finlandii. Finowie mogą się też poc
 hwalić singlem numer jeden w swojej ojczyźnie. W 2006 roku pozycję tę 
 zajęła piosenka "Likainen parketti" z drugiej studyjnej płyty "Uudet ky
 mmenen käskyä". \n\nSprawdź\, jeśli lubisz: Devin Townsend\, Strapping
  Young Lad\, Diablo...\n\n▶ http://www.stam1na.com/\n▶ https://www.fac
 ebook.com/Stam1naOfficial/\n▶ https://www.youtube.com/watch?v=lO5_a05wHV
 E\n\n\nZagrają:\nINSOMNIUM (Finlandia) melodyjny death metal\n+\nThe Blac
 k Dahlia Murder (USA) melodyjny death metal\nStam1na (Finlandia) thrash me
 tal\n\nKiedy: 21 listopada (czwartek) 2019\nGdzie: Kraków @ Kwadrat\, ul.
  Skarżyńskiego 1\nBilety:  90 zł – przedsprzedaż\, 100 zł – w dni
 u koncertu\nOrganizator: Knock Out Productions\n\nBilety na koncerty dost
 ępne na:\nhttps://sklep.knockoutprod.net (druki kolekcjonerskie)\n\n\nZap
 rasza\nKnock Out Productions	\nhttp://www.knockoutprod.net\nhttps://www.fa
 cebook.com/productions.knock.out\nhttps://www.instagram.com/knockoutprod
ATTACH;FMTTYPE=image/jpeg:https://night4u.pl/wp-content/uploads/2019/06/48
 126_image_64481612_2364296073593146_7141554096598679552_o.jpg
CATEGORIES:małopolskie
LOCATION:Hala Forum\, Marii Konopnickiej 28\, Kraków\, 30-302\, Poland
GEO:50.04504;19.93639
X-APPLE-STRUCTURED-LOCATION;VALUE=URI;X-ADDRESS=Marii Konopnickiej 28\, Kra
 ków\, 30-302\, Poland;X-APPLE-RADIUS=100;X-TITLE=Hala Forum:geo:50.04504,
 19.93639
END:VEVENT
BEGIN:VTIMEZONE
TZID:Europe/Warsaw
X-LIC-LOCATION:Europe/Warsaw
BEGIN:STANDARD
DTSTART:20191027T020000
TZOFFSETFROM:+0200
TZOFFSETTO:+0100
TZNAME:CET
END:STANDARD
END:VTIMEZONE
END:VCALENDAR