BEGIN:VCALENDAR
VERSION:2.0
PRODID:-//wp-events-plugin.com//7.2.3.1//EN
TZID:Europe/Warsaw
X-WR-TIMEZONE:Europe/Warsaw
BEGIN:VEVENT
UID:9172@night4u.pl
DTSTART;TZID=Europe/Warsaw:20190323T210000
DTEND;TZID=Europe/Warsaw:20190323T230000
DTSTAMP:20190307T230814Z
URL:https://night4u.pl/wydarzenia/integracja-wolontariuszy-partnerow-i-spo
 nsorow/
SUMMARY:Integracja wolontariuszy\, partnerów i sponsorów
DESCRIPTION:Serdecznie zapraszamy wszystkich wolontariuszy\, partnerów i s
 ponsorów Szlachetnej Paczki na wspólną integrację o godzinie 21:00 w n
 aszym klubie\, zaraz po Gali Wojewódzkiej. W podziękowaniu za Wasz wkła
 d\, serce i bezinteresowną pomoc zapraszamy do wspólnej zabawy i spędze
 nie czasu z wyjątkowymi ludźmi.
ATTACH;FMTTYPE=image/jpeg:https://night4u.pl/wp-content/uploads/2019/03/24
 891_image_54256998_2210212775909293_5678262866315051008_n.jpg
CATEGORIES:opolskie
LOCATION:K60 Party Club\, Armii Krajowej 42\, Opole\, 45-071\, Poland
GEO:50.658943;17.945609
X-APPLE-STRUCTURED-LOCATION;VALUE=URI;X-ADDRESS=Armii Krajowej 42\, Opole\,
  45-071\, Poland;X-APPLE-RADIUS=100;X-TITLE=K60 Party Club:geo:50.658943,1
 7.945609
END:VEVENT
BEGIN:VTIMEZONE
TZID:Europe/Warsaw
X-LIC-LOCATION:Europe/Warsaw
BEGIN:STANDARD
DTSTART:20181028T020000
TZOFFSETFROM:+0200
TZOFFSETTO:+0100
TZNAME:CET
END:STANDARD
END:VTIMEZONE
END:VCALENDAR