BEGIN:VCALENDAR
VERSION:2.0
PRODID:-//wp-events-plugin.com//7.2.3.1//EN
TZID:Europe/Warsaw
X-WR-TIMEZONE:Europe/Warsaw
BEGIN:VEVENT
UID:19810@night4u.pl
DTSTART;TZID=Europe/Warsaw:20190620T210000
DTEND;TZID=Europe/Warsaw:20190621T050000
DTSTAMP:20190619T193724Z
URL:https://night4u.pl/wydarzenia/international-dance-party-kenny-3/
SUMMARY:®®International DANCE PARTY //KENNY ®®
DESCRIPTION:Może nie będzie Szon Pola w nadchodzącej edycji INTERNATIONA
 L dancehall\,rnb PARTY ale będziecie Wy i Wasze możliwości taneczne\,kt
 óre nie raz nas zaskoczyły ❤?\nTaras cały dla Was\,my cali dla Was te
 ż ?\nDensholujemy już od 21?
ATTACH;FMTTYPE=image/jpeg:https://night4u.pl/wp-content/uploads/2019/06/47
 699_image_64694781_495039571237075_4745325557930000384_n.jpg
CATEGORIES:pomorskie
LOCATION:Kongo Bar\, Bohaterów Monte Cassino  60\, Sopot\, 81-759\, Poland
GEO:54.444433;18.568585999999982
X-APPLE-STRUCTURED-LOCATION;VALUE=URI;X-ADDRESS=Bohaterów Monte Cassino  6
 0\, Sopot\, 81-759\, Poland;X-APPLE-RADIUS=100;X-TITLE=Kongo Bar:geo:54.44
 4433,18.568585999999982
END:VEVENT
BEGIN:VTIMEZONE
TZID:Europe/Warsaw
X-LIC-LOCATION:Europe/Warsaw
BEGIN:DAYLIGHT
DTSTART:20190331T030000
TZOFFSETFROM:+0100
TZOFFSETTO:+0200
TZNAME:CEST
END:DAYLIGHT
END:VTIMEZONE
END:VCALENDAR