BEGIN:VCALENDAR
VERSION:2.0
PRODID:-//wp-events-plugin.com//7.2.3.1//EN
TZID:Europe/Warsaw
X-WR-TIMEZONE:Europe/Warsaw
BEGIN:VEVENT
UID:30897@night4u.pl
DTSTART;TZID=Europe/Warsaw:20191017T210000
DTEND;TZID=Europe/Warsaw:20191018T060000
DTSTAMP:20191018T001709Z
URL:https://night4u.pl/wydarzenia/international-integration-17-10-piwko-5-
 pln/
SUMMARY:International Integration // 17.10 // Piwko 5 pln
DESCRIPTION:On October 17\, you are invited on INTERNATIONAL INTEGRATION. I
 t is a time of integration of students from Poland and abroad and other fo
 reigners staying in Lublin! El Cubano is the only Cuban club in the city c
 enter! See U! &lt\;3 \n\nPROMO:\n🍻🍻🍻BEER &quot\;Tyskie&quot\; - 5
  PLN 🍻🍻🍻\n\n\n17 października wbijajcie INTERNATIONAL INTEGRATIO
 N. To czas integracji studentów z Polski i zagranicy i innych obcokrajowc
 ów przebywających w Lublinie! El Cubano to jedyny kubański klub w samym
  centrum miasta!\n\nPROMO:\n🍻🍻🍻 PIWO &quot\;Tyskie&quot\; - 5 PLN
  🍻🍻🍻\n\n\n------------------------------------------------\n⭐
 ️ CZWARTEK ⭐️\n\nStart 21:00!\n➡️ Do 23:00 lista FB wchodzi FREE
 \n➡️ Po 23:00 - 10 PLN\n\nLISTĘ FB ZAMYKAMY O 20:00!\n\nseats &amp\; 
 tables/ rezerwacje stolików\n☎️: 725700205 (wt-sob. 17:00-20:00)\ndoo
 r selection / 18+
ATTACH;FMTTYPE=image/jpeg:https://night4u.pl/wp-content/uploads/2019/10/71
 374_image_72119581_2512427492166996_346623093650751488_o.jpg
CATEGORIES:lubelskie
LOCATION:El Cubano Lublin\, Hempla 5\, Lublin\, 20-077\, Poland
GEO:51.245544;22.558043
X-APPLE-STRUCTURED-LOCATION;VALUE=URI;X-ADDRESS=Hempla 5\, Lublin\, 20-077\
 , Poland;X-APPLE-RADIUS=100;X-TITLE=El Cubano Lublin:geo:51.245544,22.5580
 43
END:VEVENT
BEGIN:VTIMEZONE
TZID:Europe/Warsaw
X-LIC-LOCATION:Europe/Warsaw
BEGIN:DAYLIGHT
DTSTART:20190331T030000
TZOFFSETFROM:+0100
TZOFFSETTO:+0200
TZNAME:CEST
END:DAYLIGHT
END:VTIMEZONE
END:VCALENDAR