BEGIN:VCALENDAR
VERSION:2.0
PRODID:-//wp-events-plugin.com//7.2.3.1//EN
TZID:Europe/Warsaw
X-WR-TIMEZONE:Europe/Warsaw
BEGIN:VEVENT
UID:51134@night4u.pl
DTSTART;TZID=Europe/Prague:20211007T220000
DTEND;TZID=Europe/Prague:20211008T030000
DTSTAMP:20210908T144740Z
URL:https://night4u.pl/wydarzenia/international-student-festival-wroclaw/
SUMMARY:International Student Festival | Wroclaw
DESCRIPTION:This summer hundreds of new students will arrive in Wroclaw\, t
 his will be celebrated with the largest party of the semester on October 7
  🎉\n\n\nAll local and international students from the University of Wro
 cław\, WMU\, WUE and many more will come together for this unique opportu
 nity to party along their new friends from all over the world..🎓🌍\n\
 n\nExpect our favourite venue of the city filled with all the people we ar
 e going to experience this semester in Poland with\, so get ready for the 
 first night out with everyone! 🍾\n\n\nᴀʟᴛʜᴏᴜɢʜ ɪᴛ ʟᴏ
 ᴏᴋꜱ ʟɪᴋᴇ ᴡᴇ ꜰɪɴᴀʟʟʏ ᴄᴀɴ ʜᴀᴠᴇ ᴀ ɢ
 ᴏᴏᴅ ᴛɪᴍᴇ ᴀɢᴀɪɴ ᴀɴᴅ ᴄᴏᴍᴇ ᴛᴏɢᴇᴛʜ
 ᴇʀ\, ᴀʟʟ ʟᴏᴄᴀʟ ᴄᴏʀᴏɴᴀ ᴍᴇᴀꜱᴜʀᴇꜱ ᴡ
 ɪʟʟ ʙᴇ ꜰᴏʟʟᴏᴡᴇᴅ. ᴀʟʟ ᴀᴛᴛᴇɴᴅᴇᴇꜱ 
 ᴡɪʟʟ ʙᴇ ɪɴꜰᴏʀᴍᴇᴅ ᴀʙᴏᴜᴛ ᴛʜᴇꜱᴇ ɪɴ 
 ᴀᴅᴠᴀɴᴄᴇ.\n\n\n▬▬▬ Tickets ▬▬▬\n \n\nTickets for o
 ur events sell out online in advance.The only difference between the round
 s is the price. The sooner you buy\, the cheaper your ticket.\n\n \n□□
 □□ Round 1: € 3.50 (SOLD OUT)\n□□□□ Round 2: € 6.50 (SOLD 
 OUT)\n□□□□ Round 3: € 9.50 (SOLD OUT)\n□□□□ Round 4: €
  12.50\n \n\nTickets: https://buytickets.at/isf/560715\n\n \n▬▬▬ Eve
 nt Details ▬▬▬\n \n\n💃  Dress up \; )\n🕓 22:00-03:00\nℹ️ T
 ickets are non refundable\, but transferable\n🔞 Please take a valid ID 
 (Driver License\, ID Card\, or Passport)\, the event is 18+
ATTACH;FMTTYPE=image/jpeg:https://night4u.pl/wp-content/uploads/2021/08/18
 6481_image_226699304_4179468075463117_2096891418036318883_n.jpg
CATEGORIES:dolnośląskie
END:VEVENT
BEGIN:VTIMEZONE
TZID:Europe/Prague
X-LIC-LOCATION:Europe/Prague
BEGIN:DAYLIGHT
DTSTART:20210328T030000
TZOFFSETFROM:+0100
TZOFFSETTO:+0200
TZNAME:CEST
END:DAYLIGHT
END:VTIMEZONE
END:VCALENDAR