BEGIN:VCALENDAR
VERSION:2.0
PRODID:-//wp-events-plugin.com//7.2.3.1//EN
TZID:Europe/Warsaw
X-WR-TIMEZONE:Europe/Warsaw
BEGIN:VEVENT
UID:31678@night4u.pl
DTSTART;TZID=Europe/Warsaw:20191123T230000
DTEND;TZID=Europe/Warsaw:20191124T050000
DTSTAMP:20191119T110337Z
URL:https://night4u.pl/wydarzenia/iosound-party-w-kollektiv-turmstrasse-by
 -temperamental/
SUMMARY:IOSound Party w/ Kollektiv Turmstrasse by Temperamental
DESCRIPTION:Temperamental presents IOSound Party. \nPrzygotujcie się na de
 biut  Kollektiv Turmstrasse w Trójmieście. Z wydaniami wytwórni Conaiss
 eur\, Diynamic u Solomuna czy też własnej: Musik Gewinnt Freunde\, Kolle
 ktiv Turmstrasse nie potrzebują wielu wyjaśnień. Na świecie jest tylko
  kilka bardziej uwielbianych i respektowanych aktów związanych z muzyką
  elektroniczną. Szczypta melancholii i harmonii w ich produkcjach\, nie z
 apominając też o ludzkim cieple\, pozwala im swobodnie wpasowywać się 
 w scenariusze\, zarówno klubowe\, jak i w słuchanie muzyki w zaciszu dom
 owym.\n\nPrawdopodobnie dlatego ich sound tak sukcesywnie zyskuje popularn
 ość na scenach klubowych.\n\nFlow Arts Performer's. Widowiskowe umięję
 tności\, nietuzinkowe stroje i malownicze światła\, dołożą wrażeń 
 wizualnych.\n\nArtists : \nKOLLEKTIV TURMSTRASSE (Christian) \nBONIS \nFRE
 SH \nMICROB \nTUXEDO \n\nDATA 23.11.2019\nGodz 23.00 - 05.00\nBiletomat: 4
 0/50/55zl  \nIlość biletów jest ograniczona!\n\nKasa wieczorowa  cena 5
 5zl \n\n\n• Info:\n☞ http://sfinks700.com/\n\n\nS.F.I.N.K.S. 700\nAlej
 a Franciszka Mamuszki 1\n81-718 Sopot\n\nWstęp od 21 lat\n*z wyłączenie
 m studentów
ATTACH;FMTTYPE=image/jpeg:https://night4u.pl/wp-content/uploads/2019/10/74
 689_image_71907641_714348479053555_5459235958173990912_o.jpg
CATEGORIES:pomorskie
LOCATION:Sfinks700\, Mamuszki 1\, Sopot\, 81-718\, Poland
GEO:54.448468;18.567313
X-APPLE-STRUCTURED-LOCATION;VALUE=URI;X-ADDRESS=Mamuszki 1\, Sopot\, 81-718
 \, Poland;X-APPLE-RADIUS=100;X-TITLE=Sfinks700:geo:54.448468,18.567313
END:VEVENT
BEGIN:VTIMEZONE
TZID:Europe/Warsaw
X-LIC-LOCATION:Europe/Warsaw
BEGIN:STANDARD
DTSTART:20191027T020000
TZOFFSETFROM:+0200
TZOFFSETTO:+0100
TZNAME:CET
END:STANDARD
END:VTIMEZONE
END:VCALENDAR