BEGIN:VCALENDAR
VERSION:2.0
PRODID:-//wp-events-plugin.com//7.2.3.1//EN
TZID:Europe/Warsaw
X-WR-TIMEZONE:Europe/Warsaw
BEGIN:VEVENT
UID:40816@night4u.pl
DTSTART;TZID=Europe/Warsaw:20211003T200000
DTEND;TZID=Europe/Warsaw:20211003T213000
DTSTAMP:20210908T144747Z
URL:https://night4u.pl/wydarzenia/ira-the-best-of-akustycznie-radom/
SUMMARY:IRA The Best Of Akustycznie - Radom
DESCRIPTION:Info:⤵️⤵️⤵️\n ☎️+48 606 30 40 51\, ✉️ media
 l@vp.pl\n\nBilety do nabycia:\nhttps://biletyna.pl/koncert/IRA/Akustycznie
 -The-best-of/Radom?utm_source=medialbert.pl&amp\;utm_medium=events_list_xm
 l&amp\;utm_campaign=general&amp\;fbclid=IwAR1UiErmKFoLt_euDzIkyJAd3oH14E28
 EsL2NRDDjSNc0IIs6EwB2lD3o2g\noraz:\n👉 Videofox - ul . Gagarina 9\, tel.
  48 505 063 521.\n \n Zapraszamy wszystkich serdecznie. \n Tego koncertu n
 ie możecie przegapić!!!
ATTACH;FMTTYPE=image/jpeg:https://night4u.pl/wp-content/uploads/2021/06/12
 5258_image_181838045_4007693922658166_4117636274503591272_n.jpg
CATEGORIES:mazowieckie
END:VEVENT
BEGIN:VTIMEZONE
TZID:Europe/Warsaw
X-LIC-LOCATION:Europe/Warsaw
BEGIN:DAYLIGHT
DTSTART:20210328T030000
TZOFFSETFROM:+0100
TZOFFSETTO:+0200
TZNAME:CEST
END:DAYLIGHT
END:VTIMEZONE
END:VCALENDAR