BEGIN:VCALENDAR
VERSION:2.0
PRODID:-//wp-events-plugin.com//7.2.3.1//EN
TZID:Europe/Warsaw
X-WR-TIMEZONE:Europe/Warsaw
BEGIN:VEVENT
UID:5729@night4u.pl
DTSTART;TZID=Europe/Warsaw:20190214T210000
DTEND;TZID=Europe/Warsaw:20190214T230000
DTSTAMP:20190131T143306Z
URL:https://night4u.pl/wydarzenia/istota-z-fantazja-pierwszy-polski-kobiec
 y-komiks-erotyczny/
SUMMARY:Istota z fantazją. Pierwszy polski kobiecy komiks erotyczny
DESCRIPTION:O kobietach\, które chcą się kochać i wiedzą – jak i dla
 czego. Spotkanie wokół komiksu "Istota"\, pierwszego polskiego komiksu e
 rotycznego\, stworzonego wyłącznie przez kobiety. Udział wezmą w nim A
 leksandra Hirszfeld (która o TYM pisze)\, Alicja Długołęcka (która o 
 TYM mówi) i Tomasz Z. Majkowski (który chciałby się o TYM czegoś dowi
 edzieć). Wprowadzenie teoretyczno-praktyczne zapewni Janelle Monae (któr
 a o TYM śpiewa).\n\nSpotkanie towarzyszące festiwalowi Opera Rara.
ATTACH;FMTTYPE=image/jpeg:https://night4u.pl/wp-content/uploads/2019/01/17
 415_image_51014024_2372390052792956_5724314493505241088_n.jpg
CATEGORIES:małopolskie
LOCATION:Cocon Music Club\, ul. Gazowa 21\, Kraków\, 31-060\, Poland
GEO:50.04764;19.947289
X-APPLE-STRUCTURED-LOCATION;VALUE=URI;X-ADDRESS=ul. Gazowa 21\, Kraków\, 3
 1-060\, Poland;X-APPLE-RADIUS=100;X-TITLE=Cocon Music Club:geo:50.04764,19
 .947289
END:VEVENT
BEGIN:VTIMEZONE
TZID:Europe/Warsaw
X-LIC-LOCATION:Europe/Warsaw
BEGIN:STANDARD
DTSTART:20181028T020000
TZOFFSETFROM:+0200
TZOFFSETTO:+0100
TZNAME:CET
END:STANDARD
END:VTIMEZONE
END:VCALENDAR