BEGIN:VCALENDAR
VERSION:2.0
PRODID:-//wp-events-plugin.com//7.2.3.1//EN
TZID:Europe/Warsaw
X-WR-TIMEZONE:Europe/Warsaw
BEGIN:VEVENT
UID:41315@night4u.pl
DTSTART;TZID=Europe/Warsaw:20200111T230000
DTEND;TZID=Europe/Warsaw:20200112T060000
DTSTAMP:20200111T175903Z
URL:https://night4u.pl/wydarzenia/its-a-celebration-part-iv-john-james-b-d
 ay/
SUMMARY:It’s A Celebration - part IV / John James B-Day!
DESCRIPTION:Już w sobotę 11 stycznia świętować będziemy urodziny nasz
 ego przyjaciela John James! Jak przystało na tak wyjątkową okazję\, po
 dczas imprezy "It's A Celebration - part IV" nie zabraknie wyjątkowych go
 ści\, którzy sprawią\, że tej nocy skala muzycznych uniesień sięgnie
  zenitu! Zagrają dla Was: Loui PL\, Matthew Clarck\, Tommy Gustav\, Dave 
 Mayer\, Jacob Core\, a wraz z nimi zaśpiewa sam jubilat - John James! Tak
 iego składu nie znajdziecie nigdzie indziej\, zatem wybór jest prosty - 
 widzimy się na dachu Level 27 Warsaw! Do zobaczenia &lt\;3\n\nOn January 
 11th\, we&#039\;ll be celebrating the birthday party of our close friend J
 ohn James! As befitting such occasion\, we’ll do it in a good company. A
 t John&#039\;s birthday party &quot\;It&#039\;s A Celebration - part IV”
  we&#039\;ll bring together a special line up that will appear on our stag
 e at Level 27 Warsaw and make this night unforgettable! The lineup&#039\;s
  will include: Loui PL\, Matthew Clarck Tommy Gustav\, Dave Mayer\, Jacob 
 Core and of course our bday guy - John James (vocal)! There&#039\;s no pla
 ce you&#039\;ll find anything better so the choice is as simple as that - 
 see you on the rooftop of Level 27 Warsaw! Let&#039\;s Celebrate!\n\nMusic
 : Loui PL\, Matthew Clarck\, Tommy Gustav\, Dave Mayer Jacob Core\nLive ac
 t: John James\nFB free list till 00:00 (click &quot\;going&quot\; till 21:
 00)\nDress code: Casual \nDoor Policy\nEntrance: 20 pln\n\nClub Cards cond
 itions\nMember - free entrance + 1\nFriends - free entrance + 3\nVIP - fre
 e entrance + friends\nWorld’s Finest Clubs cards - free entrance + 5
ATTACH;FMTTYPE=image/jpeg:https://night4u.pl/wp-content/uploads/2020/01/12
 9645_image_81314920_2220366014925029_1647950480136994816_o.jpg
CATEGORIES:mazowieckie
LOCATION:Level 27 Warsaw\, Al. Jerozolimskie 123 A\, Warsaw\, 02-017\, Pola
 nd
GEO:52.22499;20.99128
X-APPLE-STRUCTURED-LOCATION;VALUE=URI;X-ADDRESS=Al. Jerozolimskie 123 A\, W
 arsaw\, 02-017\, Poland;X-APPLE-RADIUS=100;X-TITLE=Level 27 Warsaw:geo:52.
 22499,20.99128
END:VEVENT
BEGIN:VTIMEZONE
TZID:Europe/Warsaw
X-LIC-LOCATION:Europe/Warsaw
BEGIN:STANDARD
DTSTART:20191027T020000
TZOFFSETFROM:+0200
TZOFFSETTO:+0100
TZNAME:CET
END:STANDARD
END:VTIMEZONE
END:VCALENDAR