BEGIN:VCALENDAR
VERSION:2.0
PRODID:-//wp-events-plugin.com//7.2.3.1//EN
TZID:Europe/Warsaw
X-WR-TIMEZONE:Europe/Warsaw
BEGIN:VEVENT
UID:26154@night4u.pl
DTSTART;TZID=Europe/Warsaw:20191018T210000
DTEND;TZID=Europe/Warsaw:20191019T040000
DTSTAMP:20190903T190409Z
URL:https://night4u.pl/wydarzenia/its-friday-11/
SUMMARY:It's Friday!
DESCRIPTION:PIATEK!???\nPo ciężkim tygodniu pracy nareszcie pora na odrob
 inę szaleństwa i celebracje nadchodzącego weekendu! Tańczymy przy najl
 epszych klubowych rytmach!?\n\nMusic by:\nDJ Ramzes\n_____________________
 \nPIĄTEK\nStart 21:00 / obowiązuje selekcja / wstęp od 21 lat\nRezerwac
 je: +48 533 760 769\nWstęp - 15 pln\n\n*Do 22:00 - Lista FB (kliknij "wez
 mę udział")\nListę zamykamy o godzinie 20:00
ATTACH;FMTTYPE=image/jpeg:https://night4u.pl/wp-content/uploads/2019/09/61
 155_image_68953276_2448905551859081_1727053688851136512_o.jpg
CATEGORIES:podkarpackie
LOCATION:\, \, 
X-APPLE-STRUCTURED-LOCATION;VALUE=URI;X-ADDRESS=\, ;X-APPLE-RADIUS=100;X-TI
 TLE=:geo:0,0
END:VEVENT
BEGIN:VTIMEZONE
TZID:Europe/Warsaw
X-LIC-LOCATION:Europe/Warsaw
BEGIN:DAYLIGHT
DTSTART:20190331T030000
TZOFFSETFROM:+0100
TZOFFSETTO:+0200
TZNAME:CEST
END:DAYLIGHT
END:VTIMEZONE
END:VCALENDAR