BEGIN:VCALENDAR
VERSION:2.0
PRODID:-//wp-events-plugin.com//7.2.3.1//EN
TZID:Europe/Warsaw
X-WR-TIMEZONE:Europe/Warsaw
BEGIN:VEVENT
UID:2545@night4u.pl
DTSTART;TZID=Europe/Warsaw:20190112T210000
DTEND;TZID=Europe/Warsaw:20190113T060000
DTSTAMP:20190206T194211Z
URL:https://night4u.pl/wydarzenia/iv-urodziny-obiektu-michal-zietara-oskar
 -szafraniec-tanzlife/
SUMMARY:IV Urodziny OBIEKTu | Michal Zietara\, Oskar Szafraniec\, Tanzlife
DESCRIPTION:To już ponad 200 weekendów za nami\, a my wcale nie zamierzam
 y się zatrzymywać\, ani nawet zwalniać tempa.\n12 stycznia spotykamy si
 ę\, aby uczcić nasze czwarte (!) urodziny. Podobnie jak w poprzednich la
 tach\, przygotowaliśmy coś specjalnego. Tym razem odwiedzi nas berlińsk
 i DJ o polskich korzeniach Michal Zietara\, rezydujący w legendarnym Salo
 n - Zur wilden Renate\, założyciel labelu One step back ahead\, ściśle
  związany z wytwórnią Pets Recordings należącą do polskiego duetu ca
 tz n dogz. \nObok Michała za konsoletą pojawi się też Oskar Szafraniec
 \, Tanzlife i Blackbeard.\nDla nas tradycyjnie najlepszym prezentem będzi
 e Wasza liczna obecność - mamy nadzieję\, że widzimy się przy barze i
  na parkiecie!\n\n tax: lista fb do 22:00 (10zł) / później 15zł / pozo
 stali 20zł\n\n◉ Michal Zietara [Pets\, Wilde Renate\, Osba / Berlin]\n\
 n\n◉ Oskar Szafraniec [RAWAX\, Deset Music / Berlin]\n\n\n◉ Tanzlife [
  Connaisseur Recordings\, LET'S PLAY HOUSE]\n\n\n◉ Blackbeard [Obiekt\, 
 Hello Techno]\nhttps://youtu.be/GnpHLx5yfoM\n\nMichal Zietara został zamr
 ożony około roku 1758\, po to by 227 lat później\, a więc w 1985 wynu
 rzyć się z otchłani lodu\, jako syn samego Mozarta. Tak żartobliwie sa
 m siebie opisuje artysta.\nAby odpowiedzieć na pytanie\, jak został DJ-e
 m\, większość ludzi musi odpowiedzieć sobie jak ważną rzeczą w ich 
 dzieciństwie była kaseta magnetofonowa. To właśnie od niej wszystko si
 ę zaczęło. Michał miał dużo szczęścia gdyż jego brat przynosił d
 o ich domu dużo dobrej\, świeżej muzyki\, z czego on skrzętnie korzyst
 ał. Tak się zaczęło... Szybko poświęcił się nośnikom analogowym\,
  w szczególności winylom. Swoją technikę szlifował w klubach i dyskot
 ekach w południowych Niemczech\, po czym przeprowadził się do stolicy m
 uzyki techno – do Berlina. Tam wszystko zaczęło się „na serio”. S
 woje miejsce znalazł w legendarnym klubie „Zur wilden Renate” gdzie j
 est rezydentem i regularnie organizuje imprezy. Ponadto jest założyciele
 m labelu „One Step Back Ahead”\, który cały czas prowadzi z powodzen
 iem. Jest ściśle związany z wytwórnią „Pets Recordings” należąc
 ą do duetu Catz’n Dogz. \nJak najlepiej scharakteryzować Michała w ki
 lku słowach? Jest wrażliwy i lśniący jak okładki kolorowych magazynó
 w\, a rytmy które prezentuje\, nie są zwykłymi rytmami...
ATTACH;FMTTYPE=image/jpeg:https://night4u.pl/wp-content/uploads/2019/01/91
 87_image_49895446_1044112639107426_5427313626631372800_o.jpg
CATEGORIES:lubuskie
LOCATION:O B I E K T\, Kazimierza Wielkiego 21\, Zielona Góra\, 65-001\, P
 oland
GEO:51.944503;15.513146
X-APPLE-STRUCTURED-LOCATION;VALUE=URI;X-ADDRESS=Kazimierza Wielkiego 21\, Z
 ielona Góra\, 65-001\, Poland;X-APPLE-RADIUS=100;X-TITLE=O B I E K T:geo:
 51.944503,15.513146
END:VEVENT
BEGIN:VTIMEZONE
TZID:Europe/Warsaw
X-LIC-LOCATION:Europe/Warsaw
BEGIN:STANDARD
DTSTART:20181028T020000
TZOFFSETFROM:+0200
TZOFFSETTO:+0100
TZNAME:CET
END:STANDARD
END:VTIMEZONE
END:VCALENDAR