BEGIN:VCALENDAR
VERSION:2.0
PRODID:-//wp-events-plugin.com//7.2.3.1//EN
TZID:Europe/Warsaw
X-WR-TIMEZONE:Europe/Warsaw
BEGIN:VEVENT
UID:46233@night4u.pl
DTSTART;TZID=Europe/Warsaw:20200215T193000
DTEND;TZID=Europe/Warsaw:20200216T030000
DTSTAMP:20200331T150125Z
URL:https://night4u.pl/wydarzenia/ix-toast-za-zwyciestwo-koncert-lombardu/
SUMMARY:IX Toast za Zwycięstwo! - Koncert Lombardu!
DESCRIPTION:Wielkimi krokami zbliża się ważne wydarzenie. Rocznica\, z k
 tórą utożsamia się każdy Wielkopolanin. W dniu 16 lutego 1919 roku za
 kończyło się zwycięskie Powstanie Wielkopolskie. Z tej okazji\, kontyn
 uując rozpoczętą w 2012 roku tradycję\, już po raz dziewiąty zaprasz
 amy na imprezę Toast za Zwycięstwo!\n\nToast za Zwycięstwo to wydarzeni
 e mające na celu radosne świętowanie i upamiętnienie rocznicy zwycięs
 kiego zakończenia Powstania Wielkopolskiego\, czyli największego spośr
 ód wygranych polskich zrywów narodowowyzwoleńczych. Impreza odbywa się
  w Poznaniu cyklicznie od 2012 roku\, zawsze w okolicach 16 lutego\, czyli
  kolejnych rocznic rozejmu w Trewirze z 1919 roku. Do tej pory odbyło si
 ę już osiem edycji Toastu. \n\nTegoroczny Toast za Zwycięstwo jest efek
 tem wspólnej pracy kilku środowisk: głównego organizatora Fundacja Res
 tituta wsparli KoLiber Poznań oraz Projekt Poznań\, a honorowy patronat 
 nad wydarzeniem objęli: Sekretarz Stanu MSZ Szymon Szynkowski vel Sęk or
 az Wojewoda Wielkopolski Łukasz Mikołajczyk. Sponsorem Toastu jest Enea.
 \n\nW tym roku wypada 101. rocznica zwycięstwa w Powstaniu Wielkopolskim.
  W związku z tym\, bazując na doświadczeniach z poprzednich lat i zbudo
 wanym przez ten czas know-how\, zapraszamy na kolejną edycję Toastu za Z
 wycięstwo\, mamy nadzieję\, że jeszcze lepszą i ciekawszą od poprzedn
 ich! W tym roku nasze wydarzenie uświetni m.in. koncert zespołu Lombard!
 \n\nWidzimy się 15 lutego w Klub 9stóp o godz. 19:30!\n\n👉Po krótkim
  wstępie i przemówieniach na scenie pojawi się gwiazda wieczoru czyli L
 ombard!\n\n👉Po koncercie zapraszamy na uroczysty bankiet\, na którym w
 zniesiemy tradycyjny Toast Zwycięstwa za bohaterskich Powstańców!\n\n
 👉A po bankiecie\, jak co roku\, będziemy świętować wielkie zwycięs
 two naszych przodków na parkiecie\, ile sił w nogach. Od 23:30 zapraszam
 y na after party\, gdzie zagra dla nas jak co roku Dj Deoxyryboza!\n\nOrga
 nizator: Fundacja Restituta\n\nPartnerzy: Stowarzyszenie KoLiber\, Stowarz
 yszenie Projekt Poznań\n\nPatronat Honorowy: Sekretarz Stanu MSZ Szymon S
 zynkowski vel Sęk\, Wojewoda Wielkopolski Łukasz Mikołajczyk\n\nSponsor
 : Enea.\n\n\nCena wejściówki: jedyne 5 zł w przedsprzedaży!\n\nBilety 
 dostępne pod adresem: https://eventon.click/wydarzenia/ix-toast-za-zwycie
 stwo-koncert-lombardu/\n\nMożliwe będzie również nabycie biletów w dn
 iu imprezy przy wejściu w cenie 10 zł.\n\n\n📅PROGRAM WYDARZENIA:\n\n
 🏢Miejsce: Klub 9Stóp przy ul. Piątkowskiej 92\n\nStart 19:30 : oficja
 lne otwarcie\, przemówienia organizatorów i zaproszonych gości\nKoncert
  20:00: Lombard\nBankiet: 22:00\nAfter party: 23:30 - start imprezy\, zako
 ńczenie około 3:00 - 4:00\n\nDo zobaczenia! :)
ATTACH;FMTTYPE=image/jpeg:https://night4u.pl/wp-content/uploads/2020/02/15
 1660_image_84408081_477624349857632_206399017096052736_o.jpg
CATEGORIES:wielkopolskie
LOCATION:Klub 9stóp\, Piątkowska 92\, Poznan\, 60-649\, Poland
GEO:52.429505;16.917341
X-APPLE-STRUCTURED-LOCATION;VALUE=URI;X-ADDRESS=Piątkowska 92\, Poznan\, 6
 0-649\, Poland;X-APPLE-RADIUS=100;X-TITLE=Klub 9stóp:geo:52.429505,16.917
 341
END:VEVENT
BEGIN:VTIMEZONE
TZID:Europe/Warsaw
X-LIC-LOCATION:Europe/Warsaw
BEGIN:STANDARD
DTSTART:20191027T020000
TZOFFSETFROM:+0200
TZOFFSETTO:+0100
TZNAME:CET
END:STANDARD
END:VTIMEZONE
END:VCALENDAR