BEGIN:VCALENDAR
VERSION:2.0
PRODID:-//wp-events-plugin.com//7.2.3.1//EN
TZID:Europe/Warsaw
X-WR-TIMEZONE:Europe/Warsaw
BEGIN:VEVENT
UID:43860@night4u.pl
DTSTART;TZID=Europe/Warsaw:20200207T220000
DTEND;TZID=Europe/Warsaw:20200208T050000
DTSTAMP:20200208T002543Z
URL:https://night4u.pl/wydarzenia/j-dilla-tribute-feat-moo-latte-bitamina-
 band/
SUMMARY:J DILLA Tribute feat: Moo Latte (Bitamina band)
DESCRIPTION:Po raz dziewiąty (a 7 w DK) zapraszamy na wieczór przesiąkni
 ęty soulem\, hip-hopem\, groovem\, beatami\, pączkami\, syntezatorami w 
 rapie. Nagrania wyprodukowane przez J DILLA oraz inspirowane jego twórczo
 ścią zaprezentują:\n\n- Moo Latte - polski kompozytor i multiinstrument
 alista Kopenhadze. Gitarzysta i producent zespołu Bitamina. Ma na koncie 
 5 solowych albumów studyjnych i wiele utworów w kolaboracjach z polskimi
  i zagranicznymi artystami. Porusza się między takimi gatunkami jak hip 
 hop\, soul\, jazz i muzyką etniczną. \n- Zamojski – rezydent DK\, któ
 ry ma kilka winyli w takim klimacie ☺\n- Dziewczyn - wielki fan muzyki D
 illa i soulfulowego hip-hopu. \n\nJames Yancey\, czyli Jay Dee\, albo J Di
 lla - współpracował z De La Soul\, A Tribe Called Quest\, Busta Rhymes\
 , Erykah Badu\, Pharcyde\, Pete Rockiem\, Commonem\, The Roots. Z gigantam
 i hip-hopu. Stworzył styl\, który teraz kontynuują setki producentów s
 ceny future beats. \n\nJ Dilla Tribute wspiera Perła\nStart 22 /fb free 2
 3 / 10 zl /15 zl - wstęp + 21
ATTACH;FMTTYPE=image/jpeg:https://night4u.pl/wp-content/uploads/2020/01/14
 1093_image_82188991_2855676274498324_6738224120242110464_o.jpg
CATEGORIES:lubelskie
LOCATION:Dom Kultury\, ul. Krakowskie Przedmieście 19\, Lublin\, 20-002\, 
 Poland
GEO:51.24787;22.56342
X-APPLE-STRUCTURED-LOCATION;VALUE=URI;X-ADDRESS=ul. Krakowskie Przedmieści
 e 19\, Lublin\, 20-002\, Poland;X-APPLE-RADIUS=100;X-TITLE=Dom Kultury:geo
 :51.24787,22.56342
END:VEVENT
BEGIN:VTIMEZONE
TZID:Europe/Warsaw
X-LIC-LOCATION:Europe/Warsaw
BEGIN:STANDARD
DTSTART:20191027T020000
TZOFFSETFROM:+0200
TZOFFSETTO:+0100
TZNAME:CET
END:STANDARD
END:VTIMEZONE
END:VCALENDAR