BEGIN:VCALENDAR
VERSION:2.0
PRODID:-//wp-events-plugin.com//7.2.3.1//EN
TZID:Europe/Warsaw
X-WR-TIMEZONE:Europe/Warsaw
BEGIN:VEVENT
UID:27462@night4u.pl
DTSTART;TZID=Europe/Warsaw:20190928T223000
DTEND;TZID=Europe/Warsaw:20190929T080000
DTSTAMP:20190914T105614Z
URL:https://night4u.pl/wydarzenia/jacek-sienkiewicz-x-prozak-2-0/
SUMMARY:Jacek Sienkiewicz x Prozak 2.0
DESCRIPTION:Kolejna edycja Poliż Techno oficjalnie rozpocznie już nasz no
 wy sezon bookingowy\, dzięki postaci która bez wątpienia jest jedną z 
 najważniejszych osób polskiej sceny elektronicznej ostatnich dwóch deka
 d. Zaczynał od wczesnych brzmień acid i rave\, a w ostatnich latach skł
 ania się coraz bardziej ku zaawansowanym\, dźwiękowym eksperymentom - J
 acek Sienkiewicz!\n\nAktualnie autor kilku albumów oraz ponad 50 winylowy
 ch singli\, których zawartość rozpięta jest pomiędzy typowo imprezowy
 mi techno produkcjami\, a abstrakcyjnymi ambientowymi impresjami. Zawsze k
 roczący swoją drogą rozwija swoje unikalne\, charakterystyczne brzemien
 ie poza dominującymi trendami. Od 1999 roku prowadzi swoją wytwórnię R
 ecognition\, jednak na przestrzeni lat wydał również wiele utworów ora
 z remiksów nakładem innych wielkich europejskich wytwórni.\n\nJacek wsp
 ółpracował z wieloma uznanymi artystami\, jak Ricardo Villalobos\, Max 
 Loderbauer czy Atom ™\, z którym regularnie nagrywa i koncertuje. Tym r
 azem jednak u jego boku zagra dwóch wyjątkowych artystów: Adam Dąbrows
 ki z Katowic\, występujący pod pseudonimem Attaché\, oraz Piotr Figiel 
 - prezenter radiowy\, DJ i producent z Krakowa.\n\n[-2] Poliż Techno\nJac
 ek Sienkiewicz\nAttaché\nPiotr Figiel\n\nDo 23:00: Dla osób "biorących 
 udział" w wydarzeniu FREE!\nPo 23:00: 20/ 30 PLN
ATTACH;FMTTYPE=image/jpeg:https://night4u.pl/wp-content/uploads/2019/09/63
 939_image_69901855_2496618217065579_2167898048464683008_n.jpg
CATEGORIES:małopolskie
LOCATION:Prozak 2.0\, Plac Dominikański 6\, Kraków\, 31-032\, Poland
GEO:50.058986;19.938203
X-APPLE-STRUCTURED-LOCATION;VALUE=URI;X-ADDRESS=Plac Dominikański 6\, Krak
 ów\, 31-032\, Poland;X-APPLE-RADIUS=100;X-TITLE=Prozak 2.0:geo:50.058986,
 19.938203
END:VEVENT
BEGIN:VTIMEZONE
TZID:Europe/Warsaw
X-LIC-LOCATION:Europe/Warsaw
BEGIN:DAYLIGHT
DTSTART:20190331T030000
TZOFFSETFROM:+0100
TZOFFSETTO:+0200
TZNAME:CEST
END:DAYLIGHT
END:VTIMEZONE
END:VCALENDAR