BEGIN:VCALENDAR
VERSION:2.0
PRODID:-//wp-events-plugin.com//7.2.3.1//EN
TZID:Europe/Warsaw
X-WR-TIMEZONE:Europe/Warsaw
BEGIN:VEVENT
UID:45952@night4u.pl
DTSTART;TZID=Europe/Warsaw:20200229T200000
DTEND;TZID=Europe/Warsaw:20200301T040000
DTSTAMP:20200229T041506Z
URL:https://night4u.pl/wydarzenia/jack-daniels-lives-here-mattheo-da-funk-
 29-02-sobota/
SUMMARY:Jack Daniel's lives here + Mattheo Da Funk // 29.02 (SOBOTA)
DESCRIPTION:🥳 UWAGA❗Przed nami absolutnie wyjątkowa i ekscytująca SO
 BOTNIA impreza wraz z marką ➡️ Jack Daniel's Tennessee Whiskey 🥃\n
 \n❌ 29 LUTEGO ⚠️ na wejściu przywitają Was piękne HOSTESSY\, któ
 re poczęstują przybyłych gości pysznymi drinkami na bazie JACK'a DANIE
 LS'a oraz zadbają o zastrzyk pozytywnej energii🍸\n\n🤩 Żeby SOBOTNI
 E tańce trwały dłużej\, mamy dla Was promocję na niesamowicie cytryno
 wy\, a zarazem przepyszny drink ➡️ "LYNCHBURG LEMONADE"🍹\n\n⚡️ 
 DJ'KĄ RZĄDZIĆ BĘDZIE NASZ NOWY "EXCLUSIVE RESIDENT" 🔊 MATTHEO DA FU
 NK 🎧\n\n🔴⚫️ MATTHEO DA FUNK 🙋‍♂️ dj\, producent\, organ
 izator imprez. Za konsolą od 14 lat. Ma za sobą niezliczoną ilość wys
 tępów w klubach w różnych częściach kraju. Jego sety i produkcje to 
 zaskakujący mix wszystkiego\, co w muzyce HOUSE najlepsze. W latach 2013 
 - 2019 rezydent legendarnego klubu GRANT w Pszczynie 🎶\n\n⚫️🔵 Op
 rócz naszego gościa\, zagra ➡️ #NOVIK 🎧\, który tylko czeka\, ab
 y razem z Wami rozgrzać nasz parkiet do czerwoności 🔥\n\n👍 Zabierz
  swoich przyjaciół\, bawcie się ile sił starczy\, degustujcie dobre tr
 unki i celebrujcie tę wyjątkową noc razem z nami 🍾\n\n• PANIE DO G
 ODZ. 21:00 WCHODZĄ ZA DARMO •\n\n💵 WSTĘP : Panie 10 zł | Panowie 1
 5 zł\n\n👉 Zarezerwuj lożę już dziś  ☎️ 32 722 60 38\n\n#CHACHA
 RNIA
ATTACH;FMTTYPE=image/jpeg:https://night4u.pl/wp-content/uploads/2020/02/15
 0088_image_83157995_1308980982622618_6334415937931837440_o.jpg
CATEGORIES:śląskie
LOCATION:CHACHArnia\, Legionów 83A\, Czechowice-Dziedzice\, 43-502\, Polan
 d
GEO:49.911417;18.997156
X-APPLE-STRUCTURED-LOCATION;VALUE=URI;X-ADDRESS=Legionów 83A\, Czechowice-
 Dziedzice\, 43-502\, Poland;X-APPLE-RADIUS=100;X-TITLE=CHACHArnia:geo:49.9
 11417,18.997156
END:VEVENT
BEGIN:VTIMEZONE
TZID:Europe/Warsaw
X-LIC-LOCATION:Europe/Warsaw
BEGIN:STANDARD
DTSTART:20191027T020000
TZOFFSETFROM:+0200
TZOFFSETTO:+0100
TZNAME:CET
END:STANDARD
END:VTIMEZONE
END:VCALENDAR