BEGIN:VCALENDAR
VERSION:2.0
PRODID:-//wp-events-plugin.com//7.2.3.1//EN
TZID:Europe/Warsaw
X-WR-TIMEZONE:Europe/Warsaw
BEGIN:VEVENT
UID:18164@night4u.pl
DTSTART;TZID=Europe/Warsaw:20190608T220000
DTEND;TZID=Europe/Warsaw:20190609T150000
DTSTAMP:20190603T203649Z
URL:https://night4u.pl/wydarzenia/jacob-a-vocal-live-act-w-klub-studio-gor
 zow-wlkp/
SUMMARY:Jacob A - Vocal Live ACT w Klub Studio Gorzów Wlkp.
DESCRIPTION:Już w najbliższą sobotę 8 czerwca 2019r specjalnie dla Was:
 \n\nMC Jacob A  - Vocal Live ACT\nSeaven - Resident STUDIO\n\n\nstart 22:0
 0\nPanie do 22:30 Wstęp Wolny\n+19\nSmart Casual\n\nJacob A – wokalista
 \, twórca tekstów\, klubowy MC współpracujący z najlepszymi artystami
  muzyki elektronicznej i nie tylko. \nSwoim nieprzeciętnym głosem oraz u
 miejętnością czucia muzyki wprowadza słuchaczy w wyjątkowy klimat\, p
 rzez co każde wydarzenie muzyczne z jego udziałem staje się niezapomnia
 nym przeżyciem.\n Uczestnik wielu festiwali oraz eventów muzyki elektron
 icznej w Polsce w tym Sunrise Festival \, Global Gathering\, Godskitchen\,
  Tunnel Electrocity czy Enhouse. W 2010 oraz 2011 roku\, Jacob A brał udz
 iał w projekcie LaNoche De Eivissa. Wspólnie z dj’ami Neevald’em i B
 artes’em gościli w Ibiza Global Radio oraz Ibiza Sonica\, a także wyst
 ępowali w kilku klubach Białej Wyspy \, między innymi w Bora Bora Beach
  Bar czy też KM5 razem z rezydentem klubu Pacha - Grahamem Saharą czy To
 mem Novy’m. \nDo tej pory artysta wystąpił w wielu krajach Europy a ta
 kże poza nią\, między innymi na Tajwanie w klubach miasta Tajpei. Produ
 kcje oraz klipy nagrane z rosyjskim duetem Moonbeam\, a także Going Deepe
 r wydającymi w Armadzie Czy Spinnin Records\, również zaowocowały wyst
 ępami w tym kraju\, a także można było je usłyszeć w wielu audycjach
  na całym świecie na przykład u Tiesto. Nie można pominąć występów
  w naszym kraju i klubach\, których Jacob A zasadniczo jest stałym bywal
 cem w każdy weekend od kilku dobrych lat. \nDaje to możliwość współp
 racy z kolejnymi artystami rodzimej sceny muzycznej\, nie tylko elektronic
 znej\, ale także z innych nurtów muzycznych. Aktualnie Kuba jest w trakc
 ie realizacji nowego materiału\, już nie tylko w języku angielskim\, le
 cz również po polsku. Większość dokonań muzycznych dostępna jest na
  portalach społecznościowych artysty.
ATTACH;FMTTYPE=image/jpeg:https://night4u.pl/wp-content/uploads/2019/06/43
 953_image_61596158_2473401572690943_6623235510582116352_o.jpg
CATEGORIES:lubuskie
END:VEVENT
BEGIN:VTIMEZONE
TZID:Europe/Warsaw
X-LIC-LOCATION:Europe/Warsaw
BEGIN:DAYLIGHT
DTSTART:20190331T030000
TZOFFSETFROM:+0100
TZOFFSETTO:+0200
TZNAME:CEST
END:DAYLIGHT
END:VTIMEZONE
END:VCALENDAR