BEGIN:VCALENDAR
VERSION:2.0
PRODID:-//wp-events-plugin.com//7.2.3.1//EN
TZID:Europe/Warsaw
X-WR-TIMEZONE:Europe/Warsaw
BEGIN:VEVENT
UID:35501@night4u.pl
DTSTART;TZID=Europe/Warsaw:20191109T210000
DTEND;TZID=Europe/Warsaw:20191110T050000
DTSTAMP:20191109T225957Z
URL:https://night4u.pl/wydarzenia/jager-night-sobota-9-11-do-godz-2300-wst
 ep-free/
SUMMARY:Jager Night - sobota 9.11 - do godz. 23:00 wstęp free
DESCRIPTION:Już w najbliższą sobotę Jagerowa Bomba w Cina Club - tej no
 cy schłodzony do -10 C shot Jagermeistera w cenie 10 zł\, Jager + sprite
  - 13 zł oraz kultowy drink Jager Bomba w promo cenie 19 zł. W sobotnią
  noc bawimy się w rytmach muzyki house\, r'n'b oraz przy najnowszych hita
 ch radiowych.\n\nDO GODZ. 23:00 WSZYSCY WSTĘP FREE\npo godz. 23:00 studen
 ci wstęp 8 zł\, pozostali 10 zł\nselekcja 18+\n\nWarto posiedzieć przy
  Jagerze\nrezerwuj lożę za free na www.emenago.opole.pl
ATTACH;FMTTYPE=image/jpeg:https://night4u.pl/wp-content/uploads/2019/11/93
 415_image_74167145_2772632522800312_5612099032559124480_n.jpg
CATEGORIES:opolskie
LOCATION:Cina Club\, Katowicka 55\, Opole\, 45-061\, Poland
GEO:50.667448;17.93523
X-APPLE-STRUCTURED-LOCATION;VALUE=URI;X-ADDRESS=Katowicka 55\, Opole\, 45-0
 61\, Poland;X-APPLE-RADIUS=100;X-TITLE=Cina Club:geo:50.667448,17.93523
END:VEVENT
BEGIN:VTIMEZONE
TZID:Europe/Warsaw
X-LIC-LOCATION:Europe/Warsaw
BEGIN:STANDARD
DTSTART:20191027T020000
TZOFFSETFROM:+0200
TZOFFSETTO:+0100
TZNAME:CET
END:STANDARD
END:VTIMEZONE
END:VCALENDAR