BEGIN:VCALENDAR
VERSION:2.0
PRODID:-//wp-events-plugin.com//7.2.3.1//EN
TZID:Europe/Warsaw
X-WR-TIMEZONE:Europe/Warsaw
BEGIN:VEVENT
UID:18184@night4u.pl
DTSTART;TZID=Europe/Warsaw:20190607T200000
DTEND;TZID=Europe/Warsaw:20190608T030000
DTSTAMP:20190603T203727Z
URL:https://night4u.pl/wydarzenia/jam-session-dj-set-7-06/
SUMMARY:JAM Session & DJ SET 7.06
DESCRIPTION:Już w najbliższy piątek – wydarzenie którego nie możecie
  przegapić!\nNa Piątkowską 92 wraca muzyka na żywo 
ATTACH;FMTTYPE=image/jpeg:https://night4u.pl/wp-content/uploads/2019/06/43
 982_image_61803410_2442684206017865_1197472916900413440_o.jpg
CATEGORIES:wielkopolskie
END:VEVENT
BEGIN:VTIMEZONE
TZID:Europe/Warsaw
X-LIC-LOCATION:Europe/Warsaw
BEGIN:DAYLIGHT
DTSTART:20190331T030000
TZOFFSETFROM:+0100
TZOFFSETTO:+0200
TZNAME:CEST
END:DAYLIGHT
END:VTIMEZONE
END:VCALENDAR