BEGIN:VCALENDAR
VERSION:2.0
PRODID:-//wp-events-plugin.com//7.2.3.1//EN
TZID:Europe/Warsaw
X-WR-TIMEZONE:Europe/Warsaw
BEGIN:VEVENT
UID:3035@night4u.pl
DTSTART;TZID=Europe/Warsaw:20190112T190000
DTEND;TZID=Europe/Warsaw:20190113T020000
DTSTAMP:20190108T162607Z
URL:https://night4u.pl/wydarzenia/jam-session-w-f-i-wosp-2019/
SUMMARY:Jam session w F I WOŚP 2019
DESCRIPTION:cześć!\n(BARDZIEJ ORGANIZACYJNE INFO NA DNIACH)\nA co wy na t
 o\, aby zamiast koncertu trochę pojammować? 
ATTACH;FMTTYPE=image/jpeg:https://night4u.pl/wp-content/uploads/2019/01/10
 189_image_49589709_2488681521147329_7654769144776097792_o.jpg
CATEGORIES:pomorskie
LOCATION:Samotna F\, Wałowa 25\, Wejherowo\, 84-200\, Poland
GEO:54.602681;18.241552
X-APPLE-STRUCTURED-LOCATION;VALUE=URI;X-ADDRESS=Wałowa 25\, Wejherowo\, 84
 -200\, Poland;X-APPLE-RADIUS=100;X-TITLE=Samotna F:geo:54.602681,18.241552
END:VEVENT
BEGIN:VTIMEZONE
TZID:Europe/Warsaw
X-LIC-LOCATION:Europe/Warsaw
BEGIN:STANDARD
DTSTART:20181028T020000
TZOFFSETFROM:+0200
TZOFFSETTO:+0100
TZNAME:CET
END:STANDARD
END:VTIMEZONE
END:VCALENDAR