BEGIN:VCALENDAR
VERSION:2.0
PRODID:-//wp-events-plugin.com//7.2.3.1//EN
TZID:Europe/Warsaw
X-WR-TIMEZONE:Europe/Warsaw
BEGIN:VEVENT
UID:40409@night4u.pl
DTSTART;TZID=Europe/Warsaw:20191219T190000
DTEND;TZID=Europe/Warsaw:20191219T233000
DTSTAMP:20191219T221025Z
URL:https://night4u.pl/wydarzenia/jam-session-ze-sledzikiem/
SUMMARY:Jam session ze śledzikiem!
DESCRIPTION:Już w najbliższy czwartek (19.12..) zapraszamy na ostatnie w 
 tym roku  jam session w rockowym stylu. Udostępniamy  perkusję\, gitary 
 i nagłośnienie. Jam session poprowadzi Maciej Bogowski. Wspólne granie 
 okrasimy tym razem poczęstunkiem przy barze\, jak tradycja nakazuje rząd
 ził będzie śledzik :). Zapraszamy!
ATTACH;FMTTYPE=image/jpeg:https://night4u.pl/wp-content/uploads/2019/12/12
 2056_image_80031518_2718194951552104_6478799308060622848_o.jpg
CATEGORIES:lubelskie
LOCATION:Rock Pub Ramzes\, ul. H. Kołłątaja 3\, Lublin\, 20-006\, Poland
GEO:51.247324;22.557731
X-APPLE-STRUCTURED-LOCATION;VALUE=URI;X-ADDRESS=ul. H. Kołłątaja 3\, Lub
 lin\, 20-006\, Poland;X-APPLE-RADIUS=100;X-TITLE=Rock Pub Ramzes:geo:51.24
 7324,22.557731
END:VEVENT
BEGIN:VTIMEZONE
TZID:Europe/Warsaw
X-LIC-LOCATION:Europe/Warsaw
BEGIN:STANDARD
DTSTART:20191027T020000
TZOFFSETFROM:+0200
TZOFFSETTO:+0100
TZNAME:CET
END:STANDARD
END:VTIMEZONE
END:VCALENDAR