BEGIN:VCALENDAR
VERSION:2.0
PRODID:-//wp-events-plugin.com//7.2.3.1//EN
TZID:Europe/Warsaw
X-WR-TIMEZONE:Europe/Warsaw
BEGIN:VEVENT
UID:31203@night4u.pl
DTSTART;TZID=Europe/Warsaw:20191009T200000
DTEND;TZID=Europe/Warsaw:20191009T220000
DTSTAMP:20191009T200159Z
URL:https://night4u.pl/wydarzenia/jamie-whelligan-on-european-tour-wroclaw
 /
SUMMARY:Jamie Whelligan on European Tour | Wrocław
DESCRIPTION:Jamie Whelligan to wokalista\, autor muzyki i tekściarz pochod
 zący z Liverpoolu.\nObecnie mieszka w Londynie\, skąd czerpie inspiracje
  i tworzy. Jamie jest wokalistą indie psychodelicznej grupy Annexe The Mo
 on. Zyskali popularność po wydaniu hitu radiowego w 2018 roku zatytułow
 anego 'Full Stop'\, która bardzo dobrze została odebrana przez krytyków
  i publikę. Wokalista brytyjskiej grupy Elbow\, Guy Garvey zachwycony utw
 orem powiedział\, że to jest muzyka\, którą on uwielbia.\nWydał on r
 ównież dwa solowe albumy online - Salad Days i Pipes Plus jako 'Whelliga
 n'.\nKoncertował w wielu miejscach\, od Liverpoolu po Berlin\, od Amsterd
 amu po Austin\, zarówno z zespołem\, jak i swoim solowym projektem.\nJes
 ienią wyrusza w trasę do Holandii i Niemiec\, ale również zawita na cz
 terech koncertach w Polsce\, gdzie będzie promował swoje własne kompozy
 cje\, a także znane covery\, które zainspirowały go podczas jego drogi 
 muzycznej.\nJeśli lubicie Bowiego\, The Beatles czy The Smiths\, na pewno
  nie będzie to stracony wieczór\, nie zabraknie też muzycznych dźwięk
 ów The Doors i Radiohead. To wszystko i więcej muzycznych niespodzianek 
 czeka na Was już w październiku podczas koncertów. \n\nZapraszamy!\n\n*
 **\n\nBramka 19:00\nStart 20:00\n\nBILETY 10 zł ( dostępne tylko na wej
 ściu w dniu koncertu)
ATTACH;FMTTYPE=image/jpeg:https://night4u.pl/wp-content/uploads/2019/10/72
 521_image_67712008_109689727038847_8665846970725695488_o.jpg
CATEGORIES:dolnośląskie
LOCATION:Alive\, ul. Kolejowa 12\, Wroclaw\, 53-508\, Poland
GEO:51.10138;17.02286
X-APPLE-STRUCTURED-LOCATION;VALUE=URI;X-ADDRESS=ul. Kolejowa 12\, Wroclaw\,
  53-508\, Poland;X-APPLE-RADIUS=100;X-TITLE=Alive:geo:51.10138,17.02286
END:VEVENT
BEGIN:VTIMEZONE
TZID:Europe/Warsaw
X-LIC-LOCATION:Europe/Warsaw
BEGIN:DAYLIGHT
DTSTART:20190331T030000
TZOFFSETFROM:+0100
TZOFFSETTO:+0200
TZNAME:CEST
END:DAYLIGHT
END:VTIMEZONE
END:VCALENDAR