BEGIN:VCALENDAR
VERSION:2.0
PRODID:-//wp-events-plugin.com//7.2.3.1//EN
TZID:Europe/Warsaw
X-WR-TIMEZONE:Europe/Warsaw
BEGIN:VEVENT
UID:48745@night4u.pl
DTSTART;TZID=Europe/Warsaw:20200404T210000
DTEND;TZID=Europe/Warsaw:20200405T000000
DTSTAMP:20200404T200203Z
URL:https://night4u.pl/wydarzenia/jan-rapowanie-usmiech-lodz/
SUMMARY:Jan-Rapowanie / Uśmiech / Łódź
DESCRIPTION:Już 4 kwietnia Jan-rapowanie wystąpi w Łodzi podczas premier
 owego koncertu promującego najnowszy album “Uśmiech”!\n\nUśmiech To
 ur zagości wyłącznie w dziewięciu wybranych polskich miastach\, a każ
 demu koncertowi będzie towarzyszyła wyjątkowa oprawa wizualna. \n\nBile
 ty są dostępne w sprzedaży na stronie oraz w aplikacji Going\, a także
  w salonach Empik w całej Polsce. \nhttps://goingapp.pl/evt/2203961/jan-r
 apowanie-usmiech-lodz\n\nUWAGA!\n\nOsoby poniżej 16 roku życia mogą wzi
 ąć udział w koncercie tylko pod opieką osoby dorosłej i na wyłączn
 ą odpowiedzialność osoby dorosłej\, pod której pieczą pozostaje\, po
  nabyciu biletów wstępu zarówno dla osoby małoletniej jak i dorosłej.
 \n\nOsoby niepełnoletnie\, które ukończyły 16 lat\, mogą uczestniczy
 ć w koncercie pod warunkiem posiadania ważnego biletu oraz podpisanej zg
 ody opiekunów prawnych na uczestnictwo w imprezie.\n\nOświadczenie do po
 brania:\nhttp://soldoutagencja.pl/oswiadczenie.php
ATTACH;FMTTYPE=image/jpeg:https://night4u.pl/wp-content/uploads/2020/02/16
 6649_image_86347906_2793977903983717_4336565729299005440_o.jpg
CATEGORIES:łódzkie
LOCATION:Klub Wytwórnia\, Łąkowa 29\, Łódź\, 90-554\, Poland
GEO:51.757542;19.442285
X-APPLE-STRUCTURED-LOCATION;VALUE=URI;X-ADDRESS=Łąkowa 29\, Łódź\, 90-
 554\, Poland;X-APPLE-RADIUS=100;X-TITLE=Klub Wytwórnia:geo:51.757542,19.4
 42285
END:VEVENT
BEGIN:VTIMEZONE
TZID:Europe/Warsaw
X-LIC-LOCATION:Europe/Warsaw
BEGIN:DAYLIGHT
DTSTART:20200329T030000
TZOFFSETFROM:+0100
TZOFFSETTO:+0200
TZNAME:CEST
END:DAYLIGHT
END:VTIMEZONE
END:VCALENDAR