BEGIN:VCALENDAR
VERSION:2.0
PRODID:-//wp-events-plugin.com//7.2.3.1//EN
TZID:Europe/Warsaw
X-WR-TIMEZONE:Europe/Warsaw
BEGIN:VEVENT
UID:47302@night4u.pl
DTSTART;TZID=Europe/Warsaw:20200403T190000
DTEND;TZID=Europe/Warsaw:20200403T220000
DTSTAMP:20200403T022853Z
URL:https://night4u.pl/wydarzenia/jan-rapowanie-usmiech-poznan/
SUMMARY:SOLD OUT! Jan-Rapowanie / Uśmiech / Poznań
DESCRIPTION:Koncert wyprzedany.\n\nJuż 3 kwietnia Jan-rapowanie wystąpi w
  Poznaniu podczas premierowego koncertu promującego najnowszy album “U
 śmiech”!\n\nUśmiech Tour zagości wyłącznie w dziewięciu wybranych 
 polskich miastach\, a każdemu koncertowi będzie towarzyszyła wyjątkowa
  oprawa wizualna. \n\nBilety są dostępne w sprzedaży na stronie oraz w 
 aplikacji Going\, a także w salonach Empik w całej Polsce. \nhttps://goi
 ngapp.pl/evt/2203960/jan-rapowanie-usmiech-poznan\n\nUWAGA!\n\nOsoby poni
 żej 16 roku życia mogą wziąć udział w koncercie tylko pod opieką os
 oby dorosłej i na wyłączną odpowiedzialność osoby dorosłej\, pod kt
 órej pieczą pozostaje\, po nabyciu biletów wstępu zarówno dla osoby m
 ałoletniej jak i dorosłej.\n\nOsoby niepełnoletnie\, które ukończyły
  16 lat\, mogą uczestniczyć w koncercie pod warunkiem posiadania ważneg
 o biletu oraz podpisanej zgody opiekunów prawnych na uczestnictwo w impre
 zie.\n\nOświadczenie do pobrania:\nhttp://soldoutagencja.pl/oswiadczenie.
 php
ATTACH;FMTTYPE=image/jpeg:https://night4u.pl/wp-content/uploads/2020/02/15
 7909_image_86179588_2793965217318319_419041065509584896_o.jpg
CATEGORIES:wielkopolskie
LOCATION:Tama\, ul. Niezłomnych 2\, Poznan\, 61-714\, Poland
GEO:52.402524;16.922364
X-APPLE-STRUCTURED-LOCATION;VALUE=URI;X-ADDRESS=ul. Niezłomnych 2\, Poznan
 \, 61-714\, Poland;X-APPLE-RADIUS=100;X-TITLE=Tama:geo:52.402524,16.922364
END:VEVENT
BEGIN:VTIMEZONE
TZID:Europe/Warsaw
X-LIC-LOCATION:Europe/Warsaw
BEGIN:DAYLIGHT
DTSTART:20200329T030000
TZOFFSETFROM:+0100
TZOFFSETTO:+0200
TZNAME:CEST
END:DAYLIGHT
END:VTIMEZONE
END:VCALENDAR