BEGIN:VCALENDAR
VERSION:2.0
PRODID:-//wp-events-plugin.com//7.2.3.1//EN
TZID:Europe/Warsaw
X-WR-TIMEZONE:Europe/Warsaw
BEGIN:VEVENT
UID:47976@night4u.pl
DTSTART;TZID=Europe/Warsaw:20200402T190000
DTEND;TZID=Europe/Warsaw:20200402T220000
DTSTAMP:20200402T145400Z
URL:https://night4u.pl/wydarzenia/jan-rapowanie-usmiech-wroclaw/
SUMMARY:Jan-Rapowanie / Uśmiech / Wrocław
DESCRIPTION:Już 2 kwietnia Jan-rapowanie wystąpi we Wrocławiu podczas pr
 emierowego koncertu promującego najnowszy album “Uśmiech”!\n\nUśmie
 ch Tour zagości wyłącznie w dziewięciu wybranych polskich miastach\, a
  każdemu koncertowi będzie towarzyszyła wyjątkowa oprawa wizualna. \n\
 nBilety są dostępne w sprzedaży na stronie oraz w aplikacji Going\, a t
 akże w salonach Empik w całej Polsce. \nhttps://goingapp.pl/evt/2203959/
 jan-rapowanie-usmiech-wroclaw\n\nUWAGA!\n\nOsoby poniżej 16 roku życia m
 ogą wziąć udział w koncercie tylko pod opieką osoby dorosłej i na wy
 łączną odpowiedzialność osoby dorosłej\, pod której pieczą pozosta
 je\, po nabyciu biletów wstępu zarówno dla osoby małoletniej jak i dor
 osłej.\n\nOsoby niepełnoletnie\, które ukończyły 16 lat\, mogą uczes
 tniczyć w koncercie pod warunkiem posiadania ważnego biletu oraz podpisa
 nej zgody opiekunów prawnych na uczestnictwo w imprezie.\n\nOświadczenie
  do pobrania:\nhttp://soldoutagencja.pl/oswiadczenie.php
ATTACH;FMTTYPE=image/jpeg:https://night4u.pl/wp-content/uploads/2020/02/16
 1632_image_84241914_2793960317318809_6116785985083670528_o.jpg
CATEGORIES:dolnośląskie
LOCATION:A2 - Centrum Koncertowe\, Góralska 5\, Wroclaw\, 53-610\, Poland
GEO:51.108613;17.001703
X-APPLE-STRUCTURED-LOCATION;VALUE=URI;X-ADDRESS=Góralska 5\, Wroclaw\, 53-
 610\, Poland;X-APPLE-RADIUS=100;X-TITLE=A2 - Centrum Koncertowe:geo:51.108
 613,17.001703
END:VEVENT
BEGIN:VTIMEZONE
TZID:Europe/Warsaw
X-LIC-LOCATION:Europe/Warsaw
BEGIN:DAYLIGHT
DTSTART:20200329T030000
TZOFFSETFROM:+0100
TZOFFSETTO:+0200
TZNAME:CEST
END:DAYLIGHT
END:VTIMEZONE
END:VCALENDAR