BEGIN:VCALENDAR
VERSION:2.0
PRODID:-//wp-events-plugin.com//7.2.3.1//EN
TZID:Europe/Warsaw
X-WR-TIMEZONE:Europe/Warsaw
BEGIN:VEVENT
UID:31194@night4u.pl
DTSTART;TZID=Europe/Warsaw:20191016T203000
DTEND;TZID=Europe/Warsaw:20191016T233000
DTSTAMP:20191009T200156Z
URL:https://night4u.pl/wydarzenia/jazz-day-vol-8-karolina-pernal-quintet-f
 eat-achille-succi/
SUMMARY:Jazz Day vol. 8: Karolina Pernal Quintet feat Achille Succi
DESCRIPTION:Vertigo Jazz Day Vol. 8: Karolina Pernal Quintet feat Achille S
 ucci \nClaridad to debiutancki album Karoliny\, w którym dwa saksofony 
 – absolutnie spektakularne\, przenikające się wzajemnie w eklektycznyc
 h jazzowych aranżacjach\, modulujące do kolejnych tonacji\, zachwycają 
 kreatywnym podejściem melodycznym i wyjątkowym brzmieniem.\nKarolina Per
 nal – saksofonistka tenorowa\, będąca liderką kwintetu ma wyrafinowan
 y i charakterystyczny styl.\nAchille Succi – poza wirtuozowską grą na 
 saksofonie altowym maluje tajemniczy nastrój na klarnecie basowym.\nSkła
 d: \nKarolina Pernal saksofony tenorowy i sopranowy\nAchille Succi saksofo
 n altowy i klarnet basowy\nDawid Opaliński perkusja\nJakub Olejnik kontra
 bas\nPaweł Kukuła fortepian\n\n\nZachęcamy do rezerwacji miejsc w klubi
 e: emenago.com/i/vertigojazz
ATTACH;FMTTYPE=image/jpeg:https://night4u.pl/wp-content/uploads/2019/10/72
 507_image_69482111_2366227203633198_5470986718112907264_o.jpg
CATEGORIES:dolnośląskie
LOCATION:Vertigo Jazz Club & Restaurant\, Oławska 13\, Wroclaw\, 53-125\, 
 Poland
GEO:51.10835;17.03537
X-APPLE-STRUCTURED-LOCATION;VALUE=URI;X-ADDRESS=Oławska 13\, Wroclaw\, 53-
 125\, Poland;X-APPLE-RADIUS=100;X-TITLE=Vertigo Jazz Club & Restaurant:geo
 :51.10835,17.03537
END:VEVENT
BEGIN:VTIMEZONE
TZID:Europe/Warsaw
X-LIC-LOCATION:Europe/Warsaw
BEGIN:DAYLIGHT
DTSTART:20190331T030000
TZOFFSETFROM:+0100
TZOFFSETTO:+0200
TZNAME:CEST
END:DAYLIGHT
END:VTIMEZONE
END:VCALENDAR