BEGIN:VCALENDAR
VERSION:2.0
PRODID:-//wp-events-plugin.com//7.2.3.1//EN
TZID:Europe/Warsaw
X-WR-TIMEZONE:Europe/Warsaw
BEGIN:VEVENT
UID:47281@night4u.pl
DTSTART;TZID=Europe/Warsaw:20200920T200000
DTEND;TZID=Europe/Warsaw:20200920T230000
DTSTAMP:20200424T190009Z
URL:https://night4u.pl/wydarzenia/jazz-session-85-stanislaw-slowinski-proj
 ect/
SUMMARY:Jazz Session | Stanisław Słowiński Project
DESCRIPTION:Stanisław Słowiński – to młody\, bardzo zdolny artysta. W
 raz z autorskim projektem Stanisław Sowiński Quintet został laureatem G
 rand Prix 39. Międzynarodowego Konkursu Młodych Zespołów Jazzowych [Fe
 stiwal Jazz Juniors]. Wyróżniony  Nagrodą Publiczności na I Międzynar
 odowym Jazzowym Konkursie Skrzypcowym im. Zbigniewa Seiferta oraz stypendy
 sta Twórczego Miasta Krakowa 2014.\n\n🎵 SKŁAD:\nStanisław Słowińsk
 i – violin\nFranciszek Raczkowski – piano\nJustyn Małodobry – doubl
 e bass\n\nPosłuchaj! Stanisław Słowiński Sextet - Fear\nhttps://www.yo
 utube.com/watch?v=bRWNfT79mO4&amp\;feature=emb_title \n\n🎵 GODZ.: 20:00
  KONCERT &amp\; ROZMOWA Z ARTYSTĄ / 22:00 OPEN STAGE\nMIEJSCE: ul. Nowogr
 odzka 11\, 00-513 Warszawa\nWEJŚCIE: KONCERT 20zł / 30zł | OPEN STAGE f
 ree\n\n🎵 O PROJEKCIE:\nGrupa Stanisława Słowińskiego\, czerpiąc ins
 piracje z klasyki polskiego jazzu oraz pozostając pod silnym wpływem muz
 yki współczesnej\, stawia sobie za priorytet pracę nad indywidualnym br
 zmieniem\, zbudowanym na wypadkowej zawartych w muzyce emocji. Słowiński
  z zespołem niejako podsumowuje intensywny etap swojej twórczości\, roz
 poczęty wydaniem w 2016 roku płyty "Landscapes Too Easy To Explain"\, a 
 kontynuowany na albumie "Visions: Between Love And Death". To kolejny krok
  skrzypka na drodze definicji własnego języka muzycznego\, powstałego n
 a bazie inspiracji i doświadczeń ostatnich lat\, tras i koncertów\, kt
 óre dały mu możliwość obcowania z bogatą paletą rodzajów muzyki im
 prowizowanej i współpracy z muzykami z całego świata.\n\n🔧Organizac
 ja &amp\; produkcja: Gniewomir Tomczyk / Music\ntel. 784-691-601\, gniewom
 ir.tomczyk@gmail.com\n\nPatronat: PSJ - Polskie Stowarzyszenie Jazzowe\nPa
 tronaty medialne: Jazz Forum\, JazzPRESS\, Radio Kampus\,  \nWspierają na
 s: GoOut\, Pro Drum\, Quality Studio - recording and sound production\, Sk
 lep Muzyczny Pasja\, Źle i Tanio\, 1234studio\, W W Dobrym Tonie Studio\n
 \nINFORMACJE ORGANIZACYJNE:\n1. Podczas koncertów nie robimy rezerwacji m
 iejsc siedzących.\n2. Zachęcamy do zakupu biletów w formie elektroniczn
 ej na portalu goout.pl. W przypadku dużego zainteresowania wydarzeniem pi
 erwszeństwo wejścia do klubu mają osoby z biletem zakupionym elektronic
 znie. Liczba biletów dostępnych na bramce (w dniu koncertu/wydarzenia)\,
  zależna jest od sprzedanej liczby biletów elektronicznych.\n3. Zakup bi
 letu nie gwarantuje miejsca siedzącego. Zachęcamy do wcześniejszego prz
 yjścia i zajmowania wolnych miejsc. \n4. Ustawienie sali każdorazowo dop
 asowujemy do rodzaju wydarzenia i planowanej frekwencji\, w związku z czy
 m liczba miejsc siedzących różni się w zależności od wydarzenia.
ATTACH;FMTTYPE=image/jpeg:https://night4u.pl/wp-content/uploads/2020/02/15
 7667_image_85066121_1246327075756649_2192243112804352000_o.jpg
CATEGORIES:mazowieckie
LOCATION:BARdzo bardzo\, ul. Nowogrodzka 11\, Warsaw\, 00-513\, Poland
GEO:52.229429;21.017876
X-APPLE-STRUCTURED-LOCATION;VALUE=URI;X-ADDRESS=ul. Nowogrodzka 11\, Warsaw
 \, 00-513\, Poland;X-APPLE-RADIUS=100;X-TITLE=BARdzo bardzo:geo:52.229429,
 21.017876
END:VEVENT
BEGIN:VTIMEZONE
TZID:Europe/Warsaw
X-LIC-LOCATION:Europe/Warsaw
BEGIN:DAYLIGHT
DTSTART:20200329T030000
TZOFFSETFROM:+0100
TZOFFSETTO:+0200
TZNAME:CEST
END:DAYLIGHT
END:VTIMEZONE
END:VCALENDAR