BEGIN:VCALENDAR
VERSION:2.0
PRODID:-//wp-events-plugin.com//7.2.3.1//EN
TZID:Europe/Warsaw
X-WR-TIMEZONE:Europe/Warsaw
BEGIN:VEVENT
UID:50092@night4u.pl
DTSTART;TZID=Europe/Warsaw:20200329T200000
DTEND;TZID=Europe/Warsaw:20200329T230000
DTSTAMP:20200322T174227Z
URL:https://night4u.pl/wydarzenia/jazz-session-rafal-szatan-quartet/
SUMMARY:Jazz Session | Rafał Szatan Quartet
DESCRIPTION:Zapraszamy serdecznie na 87. odsłonę cyklu koncertów muzyki 
 jazzowej\, autorskiej\, improwizowanej... pt. Jazz Session!\n\n🎵 SKŁAD
 :\nRafał Szatan - wokal \nKrzysztof Brzeziński - piano\nPrzemysław Hana
 j - gitara\nKarol Kozłowski - bass\nMichał Dziewiński - perkusja \n\n
 🎵 GODZ.: 20:00 KONCERT &amp\; ROZMOWA Z ARTYSTĄ / 22:00 OPEN STAGE\nMI
 EJSCE: ul. Nowogrodzka 11\, 00-513 Warszawa\nWEJŚCIE: KONCERT 20zł / 30z
 ł | OPEN STAGE free\n\n🎵 O ARTYŚCIE: \nRafał Szatan - wokalista\, pi
 anista\, aktor scen muzycznych - absolwent Wydziału Jazzu na Akademii Muz
 ycznej w Katowicach. W latach 2011-2015 współpracował z zespołem RH Pl
 us\, gdzie jako wokalista wydał płytę „Po prostu 3”. Rafał był ta
 kże uczestnikiem I edycji programu „The Voice of Poland”\, oraz ćwie
 rćfinalistą X Factor wraz z zespołem Soul City. Obecnie pracuje nad sol
 owym materiałem\, w lutym wydał singiel „Życie zmieniasz w sen” zap
 owiadający album. W ostatnim czasie Rafał dołączył do obsady serialu 
 „M jak miłość”. Na telewizyjnym ekranie można go było również z
 obaczyć na emitowanym w TVP2 sylwestrze Marzeń w Zakopanem oraz wwielu i
 nnych koncertach telewizyjnych. W 2018 r. był finalistą programu „Twoj
 a Twarz Brzmi Znajomo” emitowanego w telewizji Polsat\, a w 2019 uczestn
 ikiem 10 edycji „Tańca z Gwiazdami” również dla telewizji Polsat. J
 ako aktor musicalowy współpracuje z wieloma Teatrami Muzycznymi\, m.in T
 eatr Syrena\, gdzie obecnie gra w Musicalu „Rock of Ages” i wciela si
 ę w główną postać Drew\, Teatr Variete w Krakowie: „Legalna Blondyn
 ka” - naprzemiennie dwie główne męskie postaci Warner i Emmet\, Teatr
  Muzyczny w Gdyni: Musical „Notre Dame De Paris” - rola Phoebusa\, Tea
 tr Muzyczny w Chorzowie: „Przebudzenie Wiosny” - Hanchen Rilow\, „Pr
 oducenci”\, Teatr Muzyczny w Gliwicach: „High School Musical” - gł
 ówna postać Troy Bolton\, „Musical „Hair” - główna postać Cloud
 e Bukowski.\n\n🔧Organizacja &amp\; produkcja: Gniewomir Tomczyk / Music
 \ntel. 784-691-601\, gniewomir.tomczyk@gmail.com\n\nPatronat: Polskie Stow
 arzyszenie Jazzowe\nPatronaty medialne: Jazz Forum\, JazzPRESS\, Radio Kam
 pus\n\nWspierają nas: GoOut\, Pro Drum\, Quality Studio - recording and s
 ound production\, Sklep Muzyczny Pasja\, Źle i Tanio\, W Dobrym Tonie Stu
 dio\, 1234studio\n\nINFORMACJE ORGANIZACYJNE:\n• Podczas koncertów nie 
 robimy rezerwacji miejsc siedzących.\n• Zachęcamy do zakupu biletów w
  formie elektronicznej na portalu goout.pl. W przypadku dużego zaintereso
 wania wydarzeniem pierwszeństwo wejścia do klubu mają osoby z biletem z
 akupionym elektronicznie. Liczba biletów dostępnych na bramce (w dniu ko
 ncertu/wydarzenia)\, zależna jest od sprzedanej liczby biletów elektroni
 cznych.\n• Zakup biletu nie gwarantuje miejsca siedzącego. Zachęcamy d
 o wcześniejszego przyjścia i zajmowania wolnych miejsc. \n• Ustawienie
  sali każdorazowo dopasowujemy do rodzaju wydarzenia i planowanej frekwen
 cji\, w związku z czym liczba miejsc siedzących różni się w zależno
 ści od wydarzenia.
ATTACH;FMTTYPE=image/jpeg:https://night4u.pl/wp-content/uploads/2020/03/17
 4970_image_89551460_1269207246801965_6665900577534246912_o.jpg
CATEGORIES:mazowieckie
LOCATION:BARdzo bardzo\, ul. Nowogrodzka 11\, Warsaw\, 00-513\, Poland
GEO:52.229429;21.017876
X-APPLE-STRUCTURED-LOCATION;VALUE=URI;X-ADDRESS=ul. Nowogrodzka 11\, Warsaw
 \, 00-513\, Poland;X-APPLE-RADIUS=100;X-TITLE=BARdzo bardzo:geo:52.229429,
 21.017876
END:VEVENT
BEGIN:VTIMEZONE
TZID:Europe/Warsaw
X-LIC-LOCATION:Europe/Warsaw
BEGIN:DAYLIGHT
DTSTART:20200329T030000
TZOFFSETFROM:+0100
TZOFFSETTO:+0200
TZNAME:CEST
END:DAYLIGHT
END:VTIMEZONE
END:VCALENDAR