BEGIN:VCALENDAR
VERSION:2.0
PRODID:-//wp-events-plugin.com//7.2.3.1//EN
TZID:Europe/Warsaw
X-WR-TIMEZONE:Europe/Warsaw
BEGIN:VEVENT
UID:20422@night4u.pl
DTSTART;TZID=Europe/Warsaw:20190706T210000
DTEND;TZID=Europe/Warsaw:20190707T050000
DTSTAMP:20190629T105603Z
URL:https://night4u.pl/wydarzenia/jazztko-fajne-chlopaki-vs-piekni-chlopcy
 -06-07-19/
SUMMARY:Jazztko Fajne Chłopaki vs Piękni Chłopcy 06.07.19
DESCRIPTION:Jazztko 06.07.2019\n\nkto?\n\nFajne Chłopaki - zrobili plakat 
 i świętują dekadę istnienia\nPiękni Chłopcy - duet didżejski z Krak
 owa\, którego połowa (Animisiewasz) jest również świetnym grafikiem (
 pamiętacie plakat dwa Jazztka do tyłu? na Daniela I Krime'a?)\nJa - Kuki
  & Dj Late - wiadomo. też puszczamy śmieszne piosenki. \n\ngdzie?\n\np29
  - super podwórkowy klubik. piotrkowska 29\, ale wejście od więckowskie
 go\n\nkiedy?\n\n06.07.2019 od 21:00 do końca\n\n\naaa...Fajnych Chłopak
 ów znacie? to Ci świetni graficy z Łodzi. oni obchodzą 10 lat istnieni
 a i z tej okazji robimy imprezę pod hasłem Fajne Chłopaki robią plakat
  dla Pięknych Chłopców. \n\nhttps://www.facebook.com/pieknichlopcy/\nww
 w.fajnechlopaki.com
ATTACH;FMTTYPE=image/jpeg:https://night4u.pl/wp-content/uploads/2019/06/48
 993_image_64718701_2342446322513765_1350677677408780288_o.jpg
CATEGORIES:łódzkie
LOCATION:P29\, Piotrkowska 29\, Łódź\, 90-410\, Poland
GEO:51.772549;19.455285
X-APPLE-STRUCTURED-LOCATION;VALUE=URI;X-ADDRESS=Piotrkowska 29\, Łódź\, 
 90-410\, Poland;X-APPLE-RADIUS=100;X-TITLE=P29:geo:51.772549,19.455285
END:VEVENT
BEGIN:VTIMEZONE
TZID:Europe/Warsaw
X-LIC-LOCATION:Europe/Warsaw
BEGIN:DAYLIGHT
DTSTART:20190331T030000
TZOFFSETFROM:+0100
TZOFFSETTO:+0200
TZNAME:CEST
END:DAYLIGHT
END:VTIMEZONE
END:VCALENDAR