BEGIN:VCALENDAR
VERSION:2.0
PRODID:-//wp-events-plugin.com//7.2.3.1//EN
TZID:Europe/Warsaw
X-WR-TIMEZONE:Europe/Warsaw
BEGIN:VEVENT
UID:29603@night4u.pl
DTSTART;TZID=Europe/Warsaw:20191023T220000
DTEND;TZID=Europe/Warsaw:20191024T010000
DTSTAMP:20191023T090801Z
URL:https://night4u.pl/wydarzenia/jej-perfekcyjnosc-i-mariolkaa-zapraszaja
 -na-bingo/
SUMMARY:Jej Perfekcyjność i Mariolkaa Zapraszają na Bingo
DESCRIPTION:szczegółowe informacje\n🎱BINGO 🎱BINGO 🎱BINGO🎱\n\n
 🖤 Środa x BINGO x Mariolkaa Rebell x Candy 🖤 \nZasady są już Wam 
 bardzo dobrze znane ♥ W końcu co tydzień widzimy się w licznym gronie
 \, zatem i w tym nie odpuścimy :)\nProwadzące:  MARIOLKAA\nSpecial Guest
 : Jej Perfekcyjność\nBądźcie czujni ☝🏻 podczas #Bingo\, dziewczę
 ta będą losowały VOUCHERY do naszych Przyjaciół    \, Mięso na płoc
 iee vouchery na tatuaż do Bandψta i Emilia Miki Kachnicz
ATTACH;FMTTYPE=image/jpeg:https://night4u.pl/wp-content/uploads/2019/10/68
 301_image_71331671_486233428624002_1209454350942863360_o.jpg
CATEGORIES:wielkopolskie
LOCATION:Punto Punto Club\, Podgórna 12\, Poznan\, 61-828\, Poland
GEO:52.40596;16.92945
X-APPLE-STRUCTURED-LOCATION;VALUE=URI;X-ADDRESS=Podgórna 12\, Poznan\, 61-
 828\, Poland;X-APPLE-RADIUS=100;X-TITLE=Punto Punto Club:geo:52.40596,16.9
 2945
END:VEVENT
BEGIN:VTIMEZONE
TZID:Europe/Warsaw
X-LIC-LOCATION:Europe/Warsaw
BEGIN:DAYLIGHT
DTSTART:20190331T030000
TZOFFSETFROM:+0100
TZOFFSETTO:+0200
TZNAME:CEST
END:DAYLIGHT
END:VTIMEZONE
END:VCALENDAR