BEGIN:VCALENDAR
VERSION:2.0
PRODID:-//wp-events-plugin.com//7.2.3.1//EN
TZID:Europe/Warsaw
X-WR-TIMEZONE:Europe/Warsaw
BEGIN:VEVENT
UID:33044@night4u.pl
DTSTART;TZID=Europe/Warsaw:20191025T210000
DTEND;TZID=Europe/Warsaw:20191027T000000
DTSTAMP:20191026T004054Z
URL:https://night4u.pl/wydarzenia/jesien-z-disco-polo-klub-bialystok/
SUMMARY:Jesień z Disco Polo Klub! Białystok
DESCRIPTION:Jesienne wieczory najlepiej spędzać w doskonałym towarzystwi
 e oraz z fantastyczną muzyką. \n\nStartujemy o 21:00. \n\nPiątek 25.20.
 2019\nJesienny startter\nwódka + sok = 50zł\n\nSobota 26.10.2019 \nDo 23
  piwo 4zł!!!\n\nDo zobaczenia\n\n#discopolo #białystok
ATTACH;FMTTYPE=image/jpeg:https://night4u.pl/wp-content/uploads/2019/10/81
 310_image_74205780_1124584891066866_5995196899747954688_o.jpg
CATEGORIES:podlaskie
LOCATION:DiscoPolo Klub\, Legionowa 14/16\, Białystok\, 15-099\, Poland
GEO:53.13039;23.15857
X-APPLE-STRUCTURED-LOCATION;VALUE=URI;X-ADDRESS=Legionowa 14/16\, Białysto
 k\, 15-099\, Poland;X-APPLE-RADIUS=100;X-TITLE=DiscoPolo Klub:geo:53.13039
 ,23.15857
END:VEVENT
BEGIN:VTIMEZONE
TZID:Europe/Warsaw
X-LIC-LOCATION:Europe/Warsaw
BEGIN:DAYLIGHT
DTSTART:20190331T030000
TZOFFSETFROM:+0100
TZOFFSETTO:+0200
TZNAME:CEST
END:DAYLIGHT
END:VTIMEZONE
END:VCALENDAR