BEGIN:VCALENDAR
VERSION:2.0
PRODID:-//wp-events-plugin.com//7.2.3.1//EN
TZID:Europe/Warsaw
X-WR-TIMEZONE:Europe/Warsaw
BEGIN:VEVENT
UID:11705@night4u.pl
DTSTART;TZID=Europe/Warsaw:20190420T210000
DTEND;TZID=Europe/Warsaw:20190421T040000
DTSTAMP:20190403T193455Z
URL:https://night4u.pl/wydarzenia/jesli-chodzi-na-silownie-to-powiedz-ze-j
 est-wielki-jak-czwartek/
SUMMARY:Jeśli chodzi na siłownie to powiedz\, że jest wielki jak czwarte
 k
DESCRIPTION:Rezerwejszyn loży jak zawsze pod numerem 787 010 510. \n\nZagr
 a Dj Roland.\n\n\n\n\nWódka niezmiennie jest tu pożywna\, a parkiet gor
 ący. Mamy też piwo zimne jak serce Twojej EX. Szczęścia możesz szuka
 ć już od godziny 21:00 bo wtedy drzwi naszej przedwojennej piwnicy się 
 otwierają.
ATTACH;FMTTYPE=image/jpeg:https://night4u.pl/wp-content/uploads/2019/04/30
 085_image_54374585_804836673188429_2980850909950509056_o.jpg
CATEGORIES:kujawsko-pomorskie
LOCATION:Gramofon Klub Brodnica\, Przykop 53\, Brodnica\, 87-300\, Poland
GEO:53.254299;19.405281
X-APPLE-STRUCTURED-LOCATION;VALUE=URI;X-ADDRESS=Przykop 53\, Brodnica\, 87-
 300\, Poland;X-APPLE-RADIUS=100;X-TITLE=Gramofon Klub Brodnica:geo:53.2542
 99,19.405281
END:VEVENT
BEGIN:VTIMEZONE
TZID:Europe/Warsaw
X-LIC-LOCATION:Europe/Warsaw
BEGIN:DAYLIGHT
DTSTART:20190331T030000
TZOFFSETFROM:+0100
TZOFFSETTO:+0200
TZNAME:CEST
END:DAYLIGHT
END:VTIMEZONE
END:VCALENDAR