BEGIN:VCALENDAR
VERSION:2.0
PRODID:-//wp-events-plugin.com//7.2.3.1//EN
TZID:Europe/Warsaw
X-WR-TIMEZONE:Europe/Warsaw
BEGIN:VEVENT
UID:6400@night4u.pl
DTSTART;TZID=Europe/Warsaw:20190215T210000
DTEND;TZID=Europe/Warsaw:20190216T050000
DTSTAMP:20190205T171054Z
URL:https://night4u.pl/wydarzenia/jestem-singlem-bo-mam-leniwego-amora-i-t
 epe-strzaly/
SUMMARY:Jestem singlem\, bo mam leniwego amora i tępe strzały!
DESCRIPTION:Czy dobrze jest być singlem??? Pewnie odpowiedź brzmi "to zal
 eży". Single szukają partnerów a osoby w związku marzą o byciu single
 m :) takie jest odwieczne prawo natury :)\n\n15 lutego wypada Dzień Singl
 a i w związku z tym naszą piątkową imprezę dedykujemy wszystkim poszu
 kującym miłości.\nNa wejściu dostaniecie od nas coś na odwagę \;) i 
 opaskę do wyboru:\n1. Biała - jestem do wzięcia!\n2. Żółta - ja już
  zaklepany!\n3. Srebrna - Ja tu jestem incognito!\n\nNaklejamy i siup! Zac
 zynamy parowanie! 
ATTACH;FMTTYPE=image/jpeg:https://night4u.pl/wp-content/uploads/2019/02/18
 915_image_51695097_2187379327995835_2942974976346554368_o.jpg
CATEGORIES:świętokrzyskie
LOCATION:MASKA Incognito Club\, Rynek 5\, Kielce\, 25-303\, Poland
GEO:50.871945;20.632092
X-APPLE-STRUCTURED-LOCATION;VALUE=URI;X-ADDRESS=Rynek 5\, Kielce\, 25-303\,
  Poland;X-APPLE-RADIUS=100;X-TITLE=MASKA Incognito Club:geo:50.871945,20.6
 32092
END:VEVENT
BEGIN:VTIMEZONE
TZID:Europe/Warsaw
X-LIC-LOCATION:Europe/Warsaw
BEGIN:STANDARD
DTSTART:20181028T020000
TZOFFSETFROM:+0200
TZOFFSETTO:+0100
TZNAME:CET
END:STANDARD
END:VTIMEZONE
END:VCALENDAR