BEGIN:VCALENDAR
VERSION:2.0
PRODID:-//wp-events-plugin.com//7.2.3.1//EN
TZID:Europe/Warsaw
X-WR-TIMEZONE:Europe/Warsaw
BEGIN:VEVENT
UID:26229@night4u.pl
DTSTART;TZID=Europe/Warsaw:20190927T190000
DTEND;TZID=Europe/Warsaw:20190927T235900
DTSTAMP:20190903T190837Z
URL:https://night4u.pl/wydarzenia/jesus-chrysler-suicide-fern-eyes-%e2%80%
 a2-klub-vinyl/
SUMMARY:Jesus Chrysler Suicide + Fern Eyes • Klub Vinyl
DESCRIPTION:JCS z debeściarską setlistą ! :)\n\nBILETY:\n• 25 zł (prz
 edsprzedaż) \n• 35 zł (w dniu koncertu)\n\nNiebawem więcej informacji
ATTACH;FMTTYPE=image/jpeg:https://night4u.pl/wp-content/uploads/2019/09/61
 268_image_67672369_2456842847672423_6495455594961436672_o.jpg
CATEGORIES:podkarpackie
LOCATION:Klub Vinyl\, Fredry 4\, Rzeszów\, 35-005\, Poland
GEO:50.03998;22.00741
X-APPLE-STRUCTURED-LOCATION;VALUE=URI;X-ADDRESS=Fredry 4\, Rzeszów\, 35-00
 5\, Poland;X-APPLE-RADIUS=100;X-TITLE=Klub Vinyl:geo:50.03998,22.00741
END:VEVENT
BEGIN:VTIMEZONE
TZID:Europe/Warsaw
X-LIC-LOCATION:Europe/Warsaw
BEGIN:DAYLIGHT
DTSTART:20190331T030000
TZOFFSETFROM:+0100
TZOFFSETTO:+0200
TZNAME:CEST
END:DAYLIGHT
END:VTIMEZONE
END:VCALENDAR