BEGIN:VCALENDAR
VERSION:2.0
PRODID:-//wp-events-plugin.com//7.2.3.1//EN
TZID:Europe/Warsaw
X-WR-TIMEZONE:Europe/Warsaw
BEGIN:VEVENT
UID:1446@night4u.pl
DTSTART;TZID=Europe/Warsaw:20190208T190000
DTEND;TZID=Europe/Warsaw:20190208T235900
DTSTAMP:20181228T232854Z
URL:https://night4u.pl/wydarzenia/jesus-chrysler-suicide-supervoid-messeng
 ers-%e2%80%a2-klub-vinyl/
SUMMARY:Jesus Chrysler Suicide + Supervoid Messengers • Klub Vinyl
DESCRIPTION:Jesus Chrysler Suicide\nhttps://www.facebook.com/Jesus-Chrysler
 -Suicide-158691834154214/\n\nSupervoid Messengers\nhttps://www.facebook.co
 m/SupervoidMessengers/\n\nBILETY:\n25 zl (przedsprzedaż) - niebawem więc
 ej informacji\n35 zł (w dniu koncertu)\n=================================
 ============\nREZERWACJE MIEJSC SIEDZĄCYCH W KLUBIE:\naby zarezerwować l
 oże\, należy wysłać sms na nr +48 790 225 085\n(opłata jak za normaln
 y sms wg cennika operatora)\ni podać:\n-> imię i nazwisko\,\n-> ilość 
 osób\,\n-> nazwę lub datę koncertu\nloże są płatne:\n-> duża loża 
 (8-12osób) - koszt 50 zł\n-> mała loża (4-6 osób) - koszt 20 zł\nodb
 iór i opłata loży maksymalnie do godziny 22 w dniu koncertu\n==========
 ===================================
ATTACH;FMTTYPE=image/jpeg:https://night4u.pl/wp-content/uploads/2018/12/67
 74_image_48944849_2109901265699918_2782328841400483840_o.jpg
CATEGORIES:podkarpackie
LOCATION:Klub Vinyl\, Fredry 4\, Rzeszów\, 35-005\, Poland
GEO:50.03998;22.00741
X-APPLE-STRUCTURED-LOCATION;VALUE=URI;X-ADDRESS=Fredry 4\, Rzeszów\, 35-00
 5\, Poland;X-APPLE-RADIUS=100;X-TITLE=Klub Vinyl:geo:50.03998,22.00741
END:VEVENT
BEGIN:VTIMEZONE
TZID:Europe/Warsaw
X-LIC-LOCATION:Europe/Warsaw
BEGIN:STANDARD
DTSTART:20181028T020000
TZOFFSETFROM:+0200
TZOFFSETTO:+0100
TZNAME:CET
END:STANDARD
END:VTIMEZONE
END:VCALENDAR