BEGIN:VCALENDAR
VERSION:2.0
PRODID:-//wp-events-plugin.com//7.2.3.1//EN
TZID:Europe/Warsaw
X-WR-TIMEZONE:Europe/Warsaw
BEGIN:VEVENT
UID:39660@night4u.pl
DTSTART;TZID=Europe/Warsaw:20200130T200000
DTEND;TZID=Europe/Warsaw:20200130T220000
DTSTAMP:20200331T181812Z
URL:https://night4u.pl/wydarzenia/jetlagz-koncert-premierowy-szum-i-wrocla
 w-i-d-k-luksus/
SUMMARY:Jetlagz koncert premierowy "Szum" I Wrocław I D.K. Luksus
DESCRIPTION:Koncert premierowy Jetlagz "Szum" we Wrocławiu!\n\nGdzie: D.K.
  Luksus\nKiedy: 30.01.2020\nStart: 20:00\nKoncert: 21:00\nBilety: 40/45 z
 ł\nhttps://goingapp.pl/evt/2187110/jetlagz-koncert-premierowy-szum-i-wroc
 law-i-dk-luksus\n\n"Szum" to drugi\, długogrający album duetu Jetlagz\, 
 czyli Kosiego i Łajzola.\n\nPo pierwszej\, bardzo dobrze przyjętej płyc
 ie "WSK8OFMND"\, wykonawcy konsekwentnie kreują swój unikalny styl\, ł
 ącząc elementy rapowej klasyki\, znanej z macierzystego kolektywu JWP\, 
 oraz nowoczesnych brzmień i innowacyjnych zabiegów artystycznych. Tematy
 ka utworów jest dość przekrojowa - od imprezowych\, mocnych 'bengerów'
 \, po nostalgiczne 'storytellingi'\, natomiast wspólnym mianownikiem ich 
 wszystkich jest pojęcie szumu jako zjawiska\, które nas otacza i przejaw
 ia się na różnych płaszczyznach i wymiarach (szum miasta\, szum medial
 ny\, szum informacyjny\, szum w głowie\, etc.).\n\nWykonawcy zaprosili na
  płytę kilku skrupulatnie wybranych artystów (Ero\, PRO8L3M\, Gverilla\
 , Wuzet)\, a o oprawę muzyczną zadbali wiodący utalentowani producenci 
 muzyczni\, m.in.: Err Bits\, The Returners\, Richu M czy 1988.
ATTACH;FMTTYPE=image/jpeg:https://night4u.pl/wp-content/uploads/2019/12/11
 7486_image_79089824_2709926919124567_493310352956588032_n.jpg
CATEGORIES:dolnośląskie
LOCATION:D.K. Luksus\, Wita Stwosza 16\, Wroclaw\, 50-148\, Poland
GEO:51.10958;17.03678
X-APPLE-STRUCTURED-LOCATION;VALUE=URI;X-ADDRESS=Wita Stwosza 16\, Wroclaw\,
  50-148\, Poland;X-APPLE-RADIUS=100;X-TITLE=D.K. Luksus:geo:51.10958,17.03
 678
END:VEVENT
BEGIN:VTIMEZONE
TZID:Europe/Warsaw
X-LIC-LOCATION:Europe/Warsaw
BEGIN:STANDARD
DTSTART:20191027T020000
TZOFFSETFROM:+0200
TZOFFSETTO:+0100
TZNAME:CET
END:STANDARD
END:VTIMEZONE
END:VCALENDAR