BEGIN:VCALENDAR
VERSION:2.0
PRODID:-//wp-events-plugin.com//7.2.3.1//EN
TZID:Europe/Warsaw
X-WR-TIMEZONE:Europe/Warsaw
BEGIN:VEVENT
UID:2892@night4u.pl
DTSTART;TZID=Europe/Warsaw:20190112T210000
DTEND;TZID=Europe/Warsaw:20190113T050000
DTSTAMP:20190108T151739Z
URL:https://night4u.pl/wydarzenia/jim-beam-night-sobota-12-01-do-2300-wste
 p-free/
SUMMARY:Jim Beam Night - sobota 12.01 - do 23:00 wstęp free
DESCRIPTION:Wpadnij w sobotę 12 stycznia do Cina Club i poznaj smak kultow
 ego amerykańskiego bourbona Jim Beam. Shot na lodzie\, whiskey lemonade l
 ub drinki na bazie Jim Beam'a to coś\, czego musisz koniecznie spróbowa
 ć - tej nocy specjalne ceny na wszystkie produkty linii Jim Beam.\n\nDO G
 ODZ. 23:00 WSZYSCY WSTĘP FREE\npo godz. 23:00 studenci wstęp 5 zł\, poz
 ostali 10 zł\nselekcja 18+\n\nWypij drinka lub lemoniadę siedząc wygodn
 ie w loży\nzarezerwują ją bezpłatnie na www.emenago.opole.pl
ATTACH;FMTTYPE=image/jpeg:https://night4u.pl/wp-content/uploads/2019/01/99
 23_image_49678593_2240889219307981_1812445373931716608_n.jpg
CATEGORIES:opolskie
LOCATION:Cina Club\, Katowicka 55\, Opole\, 45-061\, Poland
GEO:50.667448;17.93523
X-APPLE-STRUCTURED-LOCATION;VALUE=URI;X-ADDRESS=Katowicka 55\, Opole\, 45-0
 61\, Poland;X-APPLE-RADIUS=100;X-TITLE=Cina Club:geo:50.667448,17.93523
END:VEVENT
BEGIN:VTIMEZONE
TZID:Europe/Warsaw
X-LIC-LOCATION:Europe/Warsaw
BEGIN:STANDARD
DTSTART:20181028T020000
TZOFFSETFROM:+0200
TZOFFSETTO:+0100
TZNAME:CET
END:STANDARD
END:VTIMEZONE
END:VCALENDAR