BEGIN:VCALENDAR
VERSION:2.0
PRODID:-//wp-events-plugin.com//7.2.3.1//EN
TZID:Europe/Warsaw
X-WR-TIMEZONE:Europe/Warsaw
BEGIN:VEVENT
UID:33481@night4u.pl
DTSTART;TZID=Europe/Warsaw:20191110T183000
DTEND;TZID=Europe/Warsaw:20191110T230000
DTSTAMP:20200401T084739Z
URL:https://night4u.pl/wydarzenia/jinjer-the-agonist-10-xi-wroclaw/
SUMMARY:Wyprzedany! Jinjer + The Agonist / 10 XI / Wrocław
DESCRIPTION:🚪 18:30 - Drzwi\n🔥 19:00-19:30 - Space Of Variations\n
 🔥 19:45-20:15 - Khroma\n🔥 20:30-21:15 - The Agonist\n🔥 21:40-... 
 - Jinjer\n\n--\n\n⛔⛔ KONCERT WYPRZEDANY ⛔⛔\n\nWszystkich zainteres
 owanych koncertem Jinjer we Wrocławiu\, chcielibyśmy poinformować\, że
  został on całkowicie wyprzedany!\n\nBilety na koncert nie będą już d
 ostępne w oficjalnej sprzedaży. Nie będzie można ich zakupić równie
 ż w dniu koncertu. Bardzo dziękujemy za ogromne zainteresowanie!\n\n--\n
 \nKnock Out Productions prezentuje koncerty Jinjer w Warszawie oraz we Wro
 cławiu! \n\nUkraińska formacja Jinjer wystąpi w naszym kraju końcem 20
 19 roku\, na dwóch klubowych koncertach. Najpierw\, kapelę zobaczymy 9 l
 istopada w warszawskiej Proximie\, a następnie 10 listopada 2019\, we wro
 cławskim klubie Zaklęte Rewiry. \n\nGrupa nagrywa obecnie swoją czwart
 ą pełnometrażową płytę\, której premiera planowana jest jeszcze w t
 ym roku. Ostatnia dotychczasowa produkcja Jinjer – EP\, zatytułowany 
 „Micro”\, ukazała się w 2019 roku\, nakładem Napalm Records.\n\nZes
 pół Jinjer był także jedną z gwiazd sceny głównej\, pierwszego dnia
  tegorocznej edycji MYSTIC FESTIVAL w Krakowie! Na klubową odsłonę konc
 ertów kapeli zapraszamy już w listopadzie!\n\n--\n\n[PL] Uwaga! ⚠ Kupu
 jąc bilet od osób umieszczających oferty na nieautoryzowanych stronach 
 (Viagogo\, Ticketswap\, Allegro\, OLX czy Facebook)\, ryzykujesz nabycie f
 ałszywej wejściówki\, która uniemożliwia wejście na koncert. Prosimy
  o kupowanie biletów wyłącznie w autoryzowanych punktach sprzedaży\, t
 j. sklep.knockoutprod.net oraz eventim.pl! \n\n[ENG] Attention! ⚠ Buying
  tickets through unauthroized platforms (Viagogo\, Ticketswap\, etc.) is a
  risk of buying false tickets which will not let You participate in our sh
 ows. The only authorised ticket stores are sklep.knockoutprod.net and even
 tim.pl.\n\n--\n\n🎵 JINJER (Ukraina) groove metal:\n\nPowstały w 2009 r
 oku nieopodal Doniecka na Ukrainie zespół Jinjer\, można już chyba naz
 wać stałym bywalcem polskich klubowych scen. Na każdej trasie koncertow
 ej formacja z niesamowitą frontwoman Tatianą Shmailyuk nie zapomina o Po
 lsce\, w której ma bardzo wielu fanów. Nie tak dawno ponownie pokazali\,
  jak wspaniale wypadają na żywo\, supportując mistrzów melodyjnego dea
 th metalu z Arch Enemy.\n\nMuzyka Jinjer to hybryda kilku gatunków. Słyc
 hać u Ukraińców metalcore’a\, funk\, reggae\, nawet jazz. „King Of 
 Everything” to ostatni pełnowymiarowy materiał Ukraińców\, pochodzą
 cy z 2016 roku. W 2019 roku premierę miała EP-ka „Micro”. \n\nSprawd
 ź\, jeśli lubisz: Lamb Of God\, Guano Apes\, Killswitch Engage…\n\n▶
  http://jinjer-metal.com/\n▶ https://www.facebook.com/JinjerOfficial/\n
 ▶ https://www.youtube.com/watch?v=IJgkkYX-QYw\n\n🎵 THE AGONIST (Kanad
 a) melodyjny death metal\, metalcore:\n\nKwintet The Agonist powstał w 20
 04 roku w Montrealu i przez kilka lat działał pod nazwą The Tempest. W 
 2007 roku została ona zmieniona krótko przed tym\, jak Kanadyjczycy podp
 isali kontrakt z renomowaną wytwórnią Century Media. Połączenie melod
 yjnej odmiany death metalu z elementami metalcore'a i progmetalu przykuło
  uwagę bossów niemieckiego wydawcy. To oraz niesamowite wokale\, brutaln
 ie growlowe i czyste\, za które odpowiadała piękna i zawsze barwnie ubr
 ana Alissa White-Gluz\, znana także ze swego zaangażowania w ochronę pr
 aw zwierząt. \n\nŚwietnie rozwijająca się kariera The Agonist stanęł
 a pod znakiem zapytania\, gdy w 2014 roku Alissa otrzymała propozycję pr
 zejścia do Arch Enemy\, którą przyjęła. Chris Kells (gitara basowa\, 
 wokal)\, Danny Marino (gitara)\, Simon McKay (perkusja) i Pascal Jobin (gi
 tara) nie poddali się i znaleźli godną następczynię w osobie Amerykan
 ki Vicky Psarakis. Nagrana już z nią i wydana w 2015 roku płyta "Eye Of
  The Providence" była przekonującym dowodem na to\, że kanadyjska forma
 cja nie straciła na jakości. Koncerty oraz wydawnictwa z kolejnych lat t
 ylko umocniły w tym przekonaniu.\n \nSprawdź\, jeśli lubisz: Arch Enemy
 \, Bleeding Through\, As I Lay Dying…\n\n▶ http://theagonistband.com/h
 ome/\n▶ https://www.facebook.com/TheAgonistOfficial/\n▶ https://www.yo
 utube.com/watch?v=CgR0r94J8EM\n\n🎵 KHROMA (Finlandia) metalcore\, groov
 e\, elektronika:\n\nKapela powstała w 2010 roku w Helsinkach. Cechy chara
 kterystyczne jej muzyki to połączenie głębokich\, nierzadko djentowo z
 akręconych gitarowych riffów z okolic Meshuggah i Periphery z elektronic
 znymi patentami oraz niemal opętańczymi wokalami\, których nie powstydz
 iliby się nawet niezapomniani The Dillinger Escape Plan. Nie jest to oczy
 wiście formuła zamknięta i Finowie stopniowo dodają do niej elementy. 
 Rozwój ich stylu można prześledzić\, mierząc się z albumami "Collaps
 e" i "Stasis" albo singlem "KIllThe Friction" z maja 2019 roku. Jeśli co
 ś pozostaje niezmienne\, jest to przekaz w tekstach. Mało optymistyczny\
 , wskazujący na stopniowy upadek ludzkości z różnych przyczyn\, które
  mają podłoże społeczne i ekonomiczne. \n\nSprawdź\, jeśli lubisz: T
 he Prodigy\, Periphery\, Mindless Faith…\n\n▶ http://khromaband.com/\n
 ▶ https://www.facebook.com/khromaband/\n▶ https://www.youtube.com/watc
 h?v=m6oKn3Fu628\n\n🎵 SPACE OF VARIATIONS (Ukraina) metalcore\, rock\, e
 lektronika:\n\nSpace Of Variations tworzy czterech facetów: Dima Kozhuhar
  (wokal)\, Alex Zatserkovny (gitara\, wokal)\, Anton Kasatkin (gitara baso
 wa) i Tima Kasatkin (perkusja). Jak podkreślają w swojej notce biografic
 znej\, w żadnym wypadku nie zamierzają ograniczać się do jednego stylu
  muzyki. \n\nUkraińcy nie kłamią. W twórczości Space Of Variations s
 łychać echa luminarzy metalcore'a\, dodające ciekawych barw elektronicz
 ne sample\, a także elementy wzięte z mocnego\, melodyjnego rocka. Panow
 ie mieszają to na różne sposoby\, ale zawsze robią to z sercem\, pasj
 ą i ogromną dbałością o szczegóły. Do muzyki dodają teksty\, któr
 e zakorzenione są w tym\, co dzieje się wokół oraz w głowach muzyków
 . Przede wszystkim Space Of Variations umieją pisać świetne piosenki\, 
 czego liczne dowody można znaleźć\, chociażby na wielokrotnie wychwala
 nym albumie "Mind Darknet" (np.\, singlowy "Tibet"). \n\nSprawdź\, jeśli
  lubisz: The Devil Wears Prada\, Architects\, Bring Me The Horizon…\n\n
 ▶ https://www.facebook.com/SpaceOfVariations/\n▶ https://www.youtube.c
 om/watch?v=O6Wl0QxbG1c\n\n\nZagrają:\nJINJER (Ukraina) groove metal\n+\nT
 he Agonist (Kanada) melodyjny death metal\, metalcore\nKhroma (Finlandia) 
 metalcore\, groove\, elektronika\nSpace Of Variations (Ukraina) metalcore\
 , rock\, elektronika\n\nKiedy: 10 listopada (niedziela) 2019\nGdzie: Wroc
 ław @ Zaklęte Rewiry\, ul. Krakowska 100\nOrganizator: Knock Out Product
 ions\n\n\nZaprasza\nKnock Out Productions	\nhttp://www.knockoutprod.net\nh
 ttps://www.facebook.com/productions.knock.out\nhttps://www.instagram.com/k
 nockoutprod
ATTACH;FMTTYPE=image/jpeg:https://night4u.pl/wp-content/uploads/2019/11/84
 089_image_75223666_2636284089727675_516083918827421696_o.jpg
CATEGORIES:dolnośląskie
LOCATION:Zaklęte Rewiry\, Krakowska 100\, Wroclaw\, 50-427\, Poland
GEO:51.090523;17.065898
X-APPLE-STRUCTURED-LOCATION;VALUE=URI;X-ADDRESS=Krakowska 100\, Wroclaw\, 5
 0-427\, Poland;X-APPLE-RADIUS=100;X-TITLE=Zaklęte Rewiry:geo:51.090523,17
 .065898
END:VEVENT
BEGIN:VTIMEZONE
TZID:Europe/Warsaw
X-LIC-LOCATION:Europe/Warsaw
BEGIN:STANDARD
DTSTART:20191027T020000
TZOFFSETFROM:+0200
TZOFFSETTO:+0100
TZNAME:CET
END:STANDARD
END:VTIMEZONE
END:VCALENDAR