BEGIN:VCALENDAR
VERSION:2.0
PRODID:-//wp-events-plugin.com//7.2.3.1//EN
TZID:Europe/Warsaw
X-WR-TIMEZONE:Europe/Warsaw
BEGIN:VEVENT
UID:49198@night4u.pl
DTSTART;TZID=Europe/Warsaw:20200312T220000
DTEND;TZID=Europe/Warsaw:20200312T220000
DTSTAMP:20200309T021705Z
URL:https://night4u.pl/wydarzenia/jo-ma-ha-jo-ma-so-back-to-70s80s-vol-iv/
SUMMARY:Jo ma ha\, Jo ma so - back to 70s&amp\;80s vol. IV
DESCRIPTION:JO MA HA\, JO MA SO znowu w HYBRYDACH! 🎉\n\nKarnawał się s
 kończył\, ale to nie znaczy\, że trzeba zejść ze sceny! Zapraszamy Wa
 s na czwartą odsłonę kultowej imprezy w klimacie niezapomnianych lat 70
 . i 80.! 💃🏻🕺🏻\n\nWidzimy się już 12 marca o 22:00! ⏰ Do te
 go czasu powtarzaj sobie „I WILL SURVIVE”! Przyjdź i poznaj swoją BI
 LLY JEAN\, swojego COCO JAMBO\, albo bądź jak SULTANS OF SWING!\n\nKlikn
 ij „Wezmę udział” na wydarzeniu\, a otrzymasz ONE WAY TICKET na praw
 dziwą LAMBADĘ.  Koniecznie przyjdź i sprawdź\, czy LOVE IS IN THE AIR\
 , a na koniec zaśpiewaj z nami I LOVE ROCK’N’ROLL! Poczuj się FOREVE
 R YOUNG i pamiętaj\, aby LISTEN TO YOUR HEART - widzimy się na parkiecie
 ! 💞\n\nSTART: 22:00 ⏰\nMIEJSCE: klub Hybrydy\, ul. Złota 7/9 📌\nW
 STĘP: 5 zł po kliknięciu „Wezmę udział” na wydarzeniu ✅\nDRESS 
 CODE: wszelkie dzwony\, podkolanówki\, kombinezony\, ramoneski i inne str
 oje rodem z lat 70/80 będą mile widziane - zachęcamy do wczucia się w 
 klimat imprezy! 💁🏻‍♂\n\nListę zamykamy 11 marca\, o godz. 22:00
 . Bilety będzie można zakupić na miejscu w dniu imprezy: studenci 10 z
 ł (w cenie piwo)\, pozostali 15 zł (w cenie piwo) 🎟️\n\nNa barze ob
 owiązuje promocja 🍺🍺 za 🍺 w godz. 22-23.\n\nWITHOUT YOU nie zacz
 niemy\, do zobaczenia!
ATTACH;FMTTYPE=image/jpeg:https://night4u.pl/wp-content/uploads/2020/03/17
 0374_image_87631393_3042212325835995_5513866889912123392_n.jpg
CATEGORIES:mazowieckie
LOCATION:Hybrydy\, Złota 7/9\, Warsaw\, 00-019\, Poland
GEO:52.23268;21.01157
X-APPLE-STRUCTURED-LOCATION;VALUE=URI;X-ADDRESS=Złota 7/9\, Warsaw\, 00-01
 9\, Poland;X-APPLE-RADIUS=100;X-TITLE=Hybrydy:geo:52.23268,21.01157
END:VEVENT
BEGIN:VTIMEZONE
TZID:Europe/Warsaw
X-LIC-LOCATION:Europe/Warsaw
BEGIN:STANDARD
DTSTART:20191027T020000
TZOFFSETFROM:+0200
TZOFFSETTO:+0100
TZNAME:CET
END:STANDARD
END:VTIMEZONE
END:VCALENDAR