BEGIN:VCALENDAR
VERSION:2.0
PRODID:-//wp-events-plugin.com//7.2.3.1//EN
TZID:Europe/Warsaw
X-WR-TIMEZONE:Europe/Warsaw
BEGIN:VEVENT
UID:24692@night4u.pl
DTSTART;TZID=Europe/Warsaw:20190817T183000
DTEND;TZID=Europe/Warsaw:20190817T200000
DTSTAMP:20190815T220909Z
URL:https://night4u.pl/wydarzenia/joga-na-targu-nocnym/
SUMMARY:Joga na Targu Nocnym
DESCRIPTION:Wraz z cudowną Moniką Boratyn z Joga Dla Ciebie zapraszamy Wa
 s na wyciszające zajęcia Jogi\, które odbędą się w industrialnym oto
 czeniu Fabryka Porcelany ?\n\nW czasie zajęć popracujecie nad świadomym
  oddechem\, poprawicie koncentracje\, a także oczyścicie umysł od natł
 oku myśli. Monika zwróci uwagę na poprawność wykonywanych przez Was 
 ćwiczeń oraz oddech. Pamiętajcie\, że Joga to nie tylko ćwiczenia dla
  ciała\, ale przede wszystkim dla ducha. ??\n\nZapraszamy początkującyc
 h jak i praktykujących ?\n\n— — — — —\n\nSOBOTA 17.08\, godz. 1
 8:30 ?\nwnętrze klubu P23 Katowice\nwstęp BEZPŁATNY ?‍\nprosimy o zab
 ranie mat ze sobą! \nwydarzenie jest częścią Targ Nocny: Polski Dizajn
  ?\n\n— — — — —\n\nMonika (Joga Dla Ciebie) -  instruktorka rekr
 eacji ruchowej ze specjalnością: hatha joga\, instruktorka areial jogi. 
 Praktykuję jogę od 10 lat. Absolwentka Akademii Wychowania Fizycznego w 
 Katowicach\, swoją wiedzę z zakresu nauk o kulturze fizycznej pogłębia
  na studiach doktoranckich oraz na kursach i szkoleniach.\n\nhttps://www.i
 nstagram.com/jogadlaciebie/ ✨\nhttp://www.jogadlaciebie.pl/ ✨\n\n— 
 — — — —\n\nWspierają nas: \n? MINI Bawaria Motors Katowice\n? On 
 Lemon Polska\n? Katowice - oficjalny profil miasta\n\nDo zobaczenia! ?
ATTACH;FMTTYPE=image/jpeg:https://night4u.pl/wp-content/uploads/2019/08/58
 055_image_68707106_2338246752897435_5256654415384805376_o.jpg
CATEGORIES:śląskie
LOCATION:Targ Nocny\, Porcelanowa 23\, Katowice\, 40-246\, Poland
GEO:50.255201;19.062224
X-APPLE-STRUCTURED-LOCATION;VALUE=URI;X-ADDRESS=Porcelanowa 23\, Katowice\,
  40-246\, Poland;X-APPLE-RADIUS=100;X-TITLE=Targ Nocny:geo:50.255201,19.06
 2224
END:VEVENT
BEGIN:VTIMEZONE
TZID:Europe/Warsaw
X-LIC-LOCATION:Europe/Warsaw
BEGIN:DAYLIGHT
DTSTART:20190331T030000
TZOFFSETFROM:+0100
TZOFFSETTO:+0200
TZNAME:CEST
END:DAYLIGHT
END:VTIMEZONE
END:VCALENDAR