BEGIN:VCALENDAR
VERSION:2.0
PRODID:-//wp-events-plugin.com//7.2.3.1//EN
TZID:Europe/Warsaw
X-WR-TIMEZONE:Europe/Warsaw
BEGIN:VEVENT
UID:50694@night4u.pl
DTSTART;TZID=Europe/Warsaw:20200816T110000
DTEND;TZID=Europe/Warsaw:20200816T120000
DTSTAMP:20200816T115555Z
URL:https://night4u.pl/wydarzenia/joga-z-fitness-world-i-stara-odra-beach-
 bar/
SUMMARY:Joga z Fitness World i Stara Odra Beach Bar!
DESCRIPTION:Cześć Kochani!🌻\nJuż w niedzielę spotykamy się\, aby ws
 pólnie praktykować jogę!\nZabierzcie swoją matę oraz swoich bliskich 
 i wpadajcie na chwilę relaksu dla ciała i duszy.🧘🏼‍♀️\n\nSpo
 tykamy się o godzinie 11:00 w Stara Odra Beach Bar (ul.Zawalna 53)🏝\n\
 nWstęp wolny!\nDo zobaczenia😊😊\nSoyoga Wroclaw Fitness World Polska
ATTACH;FMTTYPE=image/jpeg:https://night4u.pl/wp-content/uploads/2020/08/18
 4679_image_108023973_2122565844535227_7082231925191722275_n.jpg
CATEGORIES:dolnośląskie
LOCATION:Stara Odra Beach Bar\, Zawalna\, Wroclaw\, 51-118\, Poland
GEO:51.134179;17.039449
X-APPLE-STRUCTURED-LOCATION;VALUE=URI;X-ADDRESS=Zawalna\, Wroclaw\, 51-118\
 , Poland;X-APPLE-RADIUS=100;X-TITLE=Stara Odra Beach Bar:geo:51.134179,17.
 039449
END:VEVENT
BEGIN:VTIMEZONE
TZID:Europe/Warsaw
X-LIC-LOCATION:Europe/Warsaw
BEGIN:DAYLIGHT
DTSTART:20200329T030000
TZOFFSETFROM:+0100
TZOFFSETTO:+0200
TZNAME:CEST
END:DAYLIGHT
END:VTIMEZONE
END:VCALENDAR