BEGIN:VCALENDAR
VERSION:2.0
PRODID:-//wp-events-plugin.com//7.2.3.1//EN
TZID:Europe/Warsaw
X-WR-TIMEZONE:Europe/Warsaw
BEGIN:VEVENT
UID:33586@night4u.pl
DTSTART;TZID=Europe/Warsaw:20191026T210000
DTEND;TZID=Europe/Warsaw:20191027T040000
DTSTAMP:20191027T010354Z
URL:https://night4u.pl/wydarzenia/joker-czas-na-disco-dj-befree-dj-adys-dj
 -cezar/
SUMMARY:Joker ! Czas Na Disco ! Dj Befree &amp\; Dj Adys &amp\; Dj Cezar !
DESCRIPTION:Uwaga ❗ Konkurs ❗❗❗\n💵💵 ROZDAJEMY FREE WEJŚCIÓW
 KI I PROCENTY 💵💵\n🎫 KLIKNIJ (WEŹ UDZIAŁ W WYDARZENIU)\n\n 👉S
 OBOTA❗❗❗ 26 PAŹDZIERNIKA\n\nCZAS NA DISCO &amp\; JOKER ❗\nHIT MIX
  &amp\; DANCE 🕺💃\n\n⭐Zołza\nhttps://www.youtube.com/watch?v=diUxX
 65-K38\n⭐Aparatka\nhttps://www.youtube.com/watch?v=pzFScZiIc30\n⭐Panna
  z Tindera\nhttps://www.youtube.com/watch?v=NhiHBvJJNPU\n\nSTART 21:00 
 😃\n\n💽Sala Dance -🎵 Dj Adys / Dj Cezar\n💽Sala Klubowa - 🎵 D
 j BeFree\n\n❎Rezerwacja stolików online - http://tinyurl.com/FaceClub\n
 ⬛ ZAPRASZAMY
ATTACH;FMTTYPE=image/jpeg:https://night4u.pl/wp-content/uploads/2019/10/84
 420_image_74661824_2111334725634700_8164096723564625920_o.jpg
CATEGORIES:warmińsko-mazurskie
LOCATION:FACE Club ( Olsztyn )\, Orłowicza 6\, Olsztyn\, 10-903\, Poland
GEO:53.754659;20.492838
X-APPLE-STRUCTURED-LOCATION;VALUE=URI;X-ADDRESS=Orłowicza 6\, Olsztyn\, 10
 -903\, Poland;X-APPLE-RADIUS=100;X-TITLE=FACE Club ( Olsztyn ):geo:53.7546
 59,20.492838
END:VEVENT
BEGIN:VTIMEZONE
TZID:Europe/Warsaw
X-LIC-LOCATION:Europe/Warsaw
BEGIN:DAYLIGHT
DTSTART:20190331T030000
TZOFFSETFROM:+0100
TZOFFSETTO:+0200
TZNAME:CEST
END:DAYLIGHT
BEGIN:STANDARD
DTSTART:20191027T020000
TZOFFSETFROM:+0200
TZOFFSETTO:+0100
TZNAME:CET
END:STANDARD
END:VTIMEZONE
END:VCALENDAR