BEGIN:VCALENDAR
VERSION:2.0
PRODID:-//wp-events-plugin.com//7.2.3.1//EN
TZID:Europe/Warsaw
X-WR-TIMEZONE:Europe/Warsaw
BEGIN:VEVENT
UID:40539@night4u.pl
DTSTART;TZID=Europe/Warsaw:20200119T190000
DTEND;TZID=Europe/Warsaw:20200119T220000
DTSTAMP:20200331T191334Z
URL:https://night4u.pl/wydarzenia/joryj-kloc-w-dziku-%e2%80%a2-19-01-20/
SUMMARY:Joryj Kłoc w DZiKu • 19.01.20
DESCRIPTION:JORYJ KŁOC to zespół ze Lwowa i tworzy go czterech pozytywni
 e zakręconych chłopaków\, którzy łączą w swej muzyce wszystko to cz
 ego\, wydawałoby się\, połączyć nie można. Muzycy eksperymentują z 
 tradycyjnymi ukraińskimi pieśniami\, sprawdzając jednocześnie wytrzyma
 łość takich instrumentów jak bęben huculski\, lira korbowa\, altówka
  i gitara. Sami określają swą twórczość jednym zdaniem „Daj Boże 
 Eto Hip Czort Hop”. Nawet najbardziej wytrwali\, nie są w stanie stać 
 w bezruchu przy ich muzyce\, która niejednokrotnie zaskakuje energią i i
 nterpretacją.\n\nNazwa zespołu pochodzi tajnego języka (argo) zamknięt
 ych bractw legendarnych ukraińskich lirników i kobzarzy. Samo słowo „
 joryj” oznacza „stateczny”\, „poważny”\, ale także „szalony
 ”\, „nieokiełznany”\, „niewyżyty”. A „kłoc” oznacza „ka
 wałek”\, „kęs”\, ale także ” mędrzec”\, „mężczyzna”\, 
 „starzec”. Ta różnorodność w rozumieniu nazwy\, oddaje charakter z
 espołu: połączenie statecznych pieśni i tradycji ukraińskich lirnikó
 w z niekiełznaną energią młodych muzyków\, co gwarantuje\, że ich ko
 ncert to absolutnie niesamowite i zaskakujące przeżycie. \n\nChłopaki c
 zęsto pokazują się w Polsce\, grając na festiwalach filmowych\, dniach
  miast i eventach. Jak widać\, do klubu też zajadą \;)\n\nBramka od 19:
 00\nStart koncertu 20:00\nBilety: 25 - przedsprzedaż od 2.01\, 30 w dniu 
 koncertu
ATTACH;FMTTYPE=image/jpeg:https://night4u.pl/wp-content/uploads/2019/12/12
 2659_image_80365773_2598644966870903_44300839606550528_o.jpg
CATEGORIES:mazowieckie
LOCATION:DZiK\, Belwederska 44A\, Mokotów\, 00-594\, Poland
GEO:52.209804;21.028643
X-APPLE-STRUCTURED-LOCATION;VALUE=URI;X-ADDRESS=Belwederska 44A\, Mokotów\
 , 00-594\, Poland;X-APPLE-RADIUS=100;X-TITLE=DZiK:geo:52.209804,21.028643
END:VEVENT
BEGIN:VTIMEZONE
TZID:Europe/Warsaw
X-LIC-LOCATION:Europe/Warsaw
BEGIN:STANDARD
DTSTART:20191027T020000
TZOFFSETFROM:+0200
TZOFFSETTO:+0100
TZNAME:CET
END:STANDARD
END:VTIMEZONE
END:VCALENDAR