BEGIN:VCALENDAR
VERSION:2.0
PRODID:-//wp-events-plugin.com//7.2.3.1//EN
TZID:Europe/Warsaw
X-WR-TIMEZONE:Europe/Warsaw
BEGIN:VEVENT
UID:16353@night4u.pl
DTSTART;TZID=Europe/Warsaw:20190823T200000
DTEND;TZID=Europe/Warsaw:20190823T230000
DTSTAMP:20190516T203707Z
URL:https://night4u.pl/wydarzenia/joscho-stephan-nastepca-django-reinhardt
 a-zagra-w-s-klasztorze/
SUMMARY:Joscho Stephan -następca Django Reinhardta zagra w S. Klasztorze
DESCRIPTION:Joscho Stephan - następca Django Reinhardta zagra w Starym Kla
 sztorze!\n\nEthno Jazz Festival zaprasza na koncert jednego z największyc
 h współczesnych gitarzystów uważanego za następcę legendarnego Djang
 o Reinhardta!\nJoscho Stephan z zespołem wystąpi 23 sierpnia na Letniej 
 Scenie na Dziedzińcu Starego Klasztoru.  przy ul. Purkyniego 1.\nDla gita
 rzystów i miłośników gitarowego grania będzie to znakomita okazji do 
 podziwiania niezrównanej techniki Mistrza\, nazywanego często „najszyb
 szym gitarzystą świata”!\nGościem specjalnym koncertu będzie wrocła
 wski wirtuoz gitary klasycznej Krzysztof Pełech.\n\nJoscho Stephan to nie
 zwykły wirtuoz gitary z Niemiec. Krytycy na łamach prestiżowych pism mu
 zycznych prześcigają się w zachwytach nad jego zniewalającą biegłoś
 cią techniczną i precyzją gry.\nSwoją gitarową edukację rozpoczynał
  od nauki gry na gitarze klasycznej i\, jak sam podkreśla w licznych wywi
 adach\, to klasyczna technika jest głównym fundamentem jego dzisiejszych
  umiejętności.\nObecnie Joscho Stephan reprezentuje styl określany mian
 em gypsy jazz lub gypsy swinging guitar\, którego został okrzyknięty ni
 ezrównanym mistrzem.\n„Swinging Strings”\, „Swing News”\, „Djan
 go Forever”\, „Acoustic Live” – to płyty\, które w muzycznej bib
 lioteczce każdego miłośnika gitary akustycznej znaleźć się muszą i 
 z pewnością na ich okładkach nie zagości kurz.\n\n„Joscho Stephan gr
 a jak opętany. Niewiarygodne. Istne szaleństwo!” – tego rodzaju okre
 śleń wielcy muzycy jazzowi\, jak Paquito de Rivera\, James Carter\, Char
 lie Mariano czy Grady Tate\, używali\, by wyrazić entuzjazm i podziw dla
  jego talentu po wspólnych koncertach. \nJoscho Stephan regularnie koncer
 tuje w Europie\, USA i Australii z topowymi gitarzystami – Martinem Tayl
 orem i Tommy Emmanuelem\, a także wraz ze swoim zespołem uczestniczy w w
 ielu znaczących europejskich festiwalach. Jego koncertowe występy w nowo
 jorskim Lincoln Center czy w amerykańskim Nashville były znakomicie rece
 nzowane.\n\nSkład zespołu:\nJoscho Stephan on solo guitar\nSven Jungbeck
  on rhythm guitar\nStefan Berger on double Bass\nSebastian Reimann on viol
 in\n\nhttps://www.youtube.com/watch?v=KEMWTyO8iXQ&feature=youtu.be\n\n23.0
 8.19 godz.20.00 klub muzyczny Stary Klasztor\, ul. Purkyniego 1\nEthno Jaz
 z Festival - Muzyka Świata\nJOSCHO STEPHAN QUARTETT feat. Krzysztof Pełe
 ch\nmiejsca siedzące: 50  zł – przedsprzedaż\, 60  zł – w dniu kon
 certu\nmiejsca stojące: 35 zł – przedsprzedaż\, 40 zł – w dniu kon
 certu\n\nBilety dostępne w sieci salonów Empik i MediaMarkt w całej Pol
 sce\noraz w serwisach: www.staryklasztor.com.pl/bilety/\, www.biletin.pl\,
  www.biletyna.pl\, www.eventim.pl\, www.ebilet.pl\, \nrezerwacje: bilety@o
 2.pl
ATTACH;FMTTYPE=image/jpeg:https://night4u.pl/wp-content/uploads/2019/05/40
 046_image_60394003_2204984536283336_9179762351975432192_n.jpg
CATEGORIES:dolnośląskie
LOCATION:Stary Klasztor\, Purkyniego 1\, Wroclaw\, 50-155\, Poland
GEO:51.110198;17.039162
X-APPLE-STRUCTURED-LOCATION;VALUE=URI;X-ADDRESS=Purkyniego 1\, Wroclaw\, 50
 -155\, Poland;X-APPLE-RADIUS=100;X-TITLE=Stary Klasztor:geo:51.110198,17.0
 39162
END:VEVENT
BEGIN:VTIMEZONE
TZID:Europe/Warsaw
X-LIC-LOCATION:Europe/Warsaw
BEGIN:DAYLIGHT
DTSTART:20190331T030000
TZOFFSETFROM:+0100
TZOFFSETTO:+0200
TZNAME:CEST
END:DAYLIGHT
END:VTIMEZONE
END:VCALENDAR