BEGIN:VCALENDAR
VERSION:2.0
PRODID:-//wp-events-plugin.com//7.2.3.1//EN
TZID:Europe/Warsaw
X-WR-TIMEZONE:Europe/Warsaw
BEGIN:VEVENT
UID:50136@night4u.pl
DTSTART;TZID=Europe/Warsaw:20200319T220000
DTEND;TZID=Europe/Warsaw:20200320T060000
DTSTAMP:20200312T004347Z
URL:https://night4u.pl/wydarzenia/jozefinki-odpust-studencki-czwartek-blac
 k-diamond-club/
SUMMARY:Józefinki / Odpust / Studencki Czwartek / Black Diamond Club
DESCRIPTION:LISTA FB FREE DO 23:00/ Gwarancja pełnego klubu \n\nJuż 19.03
  świętujemy Józefinki czyli odpust w poście.\nTo będzie największa c
 zwartkowa impreza w mieście😉\nDo zobaczenia! \n\n✅PROMO BAR!\nDARMOW
 Y NALEWAK Z PIWEM do 23:00- LISTA FB! \n(weź udział w wydarzeniu i upomn
 ij się o opaskę przy wejściu odbierając pieczątkę)\n✅✅\nA na bar
 ze czeka na Was specjalna promocja! \n- 2 szoty za 5 zł! do 23:00\n- darm
 owy nalewak z piwem do 23:00! SPECJALNIE DLA WAS!\n(weź udział w wydarze
 niu)\n\nRezerwacje Loży (sala główna) oraz Loży VIP ROOM -\n661894138\
 n\n✅ Instagram⤵\nblackdiamond_bialystok\n\n✅ Nasz hashtag: #spotkajm
 ysięwblacku\n\nStart : 22.00/ obowiązuje selekcja\nKlub do osób pełnol
 etnich. \nDo zobaczenia!
ATTACH;FMTTYPE=image/jpeg:https://night4u.pl/wp-content/uploads/2020/03/17
 5178_image_89722160_2996694017055651_4261853282831433728_o.jpg
CATEGORIES:podlaskie
LOCATION:Black Diamond Club\, Piękna 2\, Białystok\, 15-282\, Poland
GEO:53.128851;23.153415
X-APPLE-STRUCTURED-LOCATION;VALUE=URI;X-ADDRESS=Piękna 2\, Białystok\, 15
 -282\, Poland;X-APPLE-RADIUS=100;X-TITLE=Black Diamond Club:geo:53.128851,
 23.153415
END:VEVENT
BEGIN:VTIMEZONE
TZID:Europe/Warsaw
X-LIC-LOCATION:Europe/Warsaw
BEGIN:STANDARD
DTSTART:20191027T020000
TZOFFSETFROM:+0200
TZOFFSETTO:+0100
TZNAME:CET
END:STANDARD
END:VTIMEZONE
END:VCALENDAR